BEGIN:VCALENDAR
VERSION:2.0
PRODID:-//IP.Board Calendar 4.3.6//EN
METHOD:PUBLISH
CALSCALE:GREGORIAN
X-WR-CALNAME:WOG
BEGIN:VTIMEZONE
TZID:Europe/London
TZURL:http://tzurl.org/zoneinfo/Europe/London
X-LIC-LOCATION:Europe/London
BEGIN:DAYLIGHT
TZOFFSETFROM:+0000
TZOFFSETTO:+0100
TZNAME:BST
DTSTART:20150329T020000Z
RRULE:FREQ=YEARLY;BYMONTH=3;BYDAY=-1SU
END:DAYLIGHT
BEGIN:STANDARD
TZOFFSETFROM:+0100
TZOFFSETTO:+0000
TZNAME:GMT
DTSTART:20151025T020000Z
RRULE:FREQ=YEARLY;BYMONTH=10;BYDAY=-1SU
END:STANDARD
END:VTIMEZONE
BEGIN:VEVENT
SUMMARY:Weekly Open Games (ARMA 3)
DTSTAMP:20150714T073502Z
SEQUENCE:0
UID:249-1-5734b46ed07498cf109a779f6d92c724@wogames.info
ORGANIZER;CN="ToxaSM":no-reply@wogames.info
DESCRIPTION:\n\n\n\n\n\n\nПятница (17.07.2015) нача
	ло игр в 20:00 МСК\nАдминистрация на
	 игры: VIncen\, Lichrus\nКровь Земли (RHS
	)в.2 \; Локация - Такистан \; Автор - Ba
	rsik\n\n\n\n\n\nСторона 1 (о)Армия Такистана
	 | US Army(а) Сторона 2\nArmor dawnв.7 \; Локаци
	я - Алтис \; Автор - Jason\n\n\n\n\n\nСторона 1
	 (а)NATO | CSAT(о) Сторона 2\nЧерная 
	Горав.1.8 \; Локация - Чернорусь \; Авто
	р - Barsik\n\n\n\n\n\nСторона 1 (о)ЧДКЗ | NATO(а) Сто
	рона 2\n \n\n\n\n
DTSTART;VALUE=DATE:20150717
END:VEVENT
END:VCALENDAR
