BEGIN:VCALENDAR
VERSION:2.0
PRODID:-//IP.Board Calendar 4.3.6//EN
METHOD:PUBLISH
CALSCALE:GREGORIAN
X-WR-CALNAME:WOG
BEGIN:VTIMEZONE
TZID:Europe/London
TZURL:http://tzurl.org/zoneinfo/Europe/London
X-LIC-LOCATION:Europe/London
BEGIN:DAYLIGHT
TZOFFSETFROM:+0000
TZOFFSETTO:+0100
TZNAME:BST
DTSTART:20150329T020000Z
RRULE:FREQ=YEARLY;BYMONTH=3;BYDAY=-1SU
END:DAYLIGHT
BEGIN:STANDARD
TZOFFSETFROM:+0100
TZOFFSETTO:+0000
TZNAME:GMT
DTSTART:20151025T020000Z
RRULE:FREQ=YEARLY;BYMONTH=10;BYDAY=-1SU
END:STANDARD
END:VTIMEZONE
BEGIN:VEVENT
SUMMARY:Iron Front Hard Mode (ARMA 2)
DTSTAMP:20150710T182152Z
SEQUENCE:0
UID:247-1-5734b46ed07498cf109a779f6d92c724@wogames.info
ORGANIZER;CN="ToxaSM":no-reply@wogames.info
DESCRIPTION:\nВ Воскресенье 12 и
	юля в 21:00 (МСК) проводится Серьез
	ная игра на сервере\nARMA2.RU *Hard Mode* Iron Fron
	t \nIP Сервера: 81.88.208.221:2302\n
	\nПоследние и
	гры проводя
	тся с новыми
	 необычными
	 миссиями\,
	 примером 
	может пос
	лужить зи
	мняя мисси
	я с соотве
	тствующей
	 раскраской
	\nПланирует
	ься танкова
	я миссия с пр
	имением танко
	вого взвода\n
	Для регистрац
	ии на проекте\
	, необходимо \
	nпрочитать наст
	оящие правила и
	 отписаться в данно
	й теме о том\, что 
	Вы согласны их
	 выполнять. \nТ
	ак-же для игры требуе
	тся установленный и настроенн
	ый ТС3 версии 3.0.0 beta36 4.6.
	2 \nс подключенн
	ым плагином \nИнстру
	кция по установке ТСа и плаги
	на для него здесь\nTeam Speak проекта: IP: 193.19.
	119.188 Port: 9987\, пароль: 1945\nКОМАНДИРЫ С
	ТОРОН:\nКрасные:\n1.[KGB]Masterjak\n2.[R]Barmaley\nСиние:
	\n1.Dmorok\n2.KGRL|Landsknecht\nЖЕЛАЮЩИ
	Е ПО КЭСИТЬ ОТПИСЫВАЕТЕ!\nДо встречи на и
	гре!\n
DTSTART;VALUE=DATE:20150712
END:VEVENT
END:VCALENDAR
