BEGIN:VCALENDAR
VERSION:2.0
PRODID:-//IP.Board Calendar 4.3.6//EN
METHOD:PUBLISH
CALSCALE:GREGORIAN
X-WR-CALNAME:WOG
BEGIN:VTIMEZONE
TZID:Europe/London
TZURL:http://tzurl.org/zoneinfo/Europe/London
X-LIC-LOCATION:Europe/London
BEGIN:DAYLIGHT
TZOFFSETFROM:+0000
TZOFFSETTO:+0100
TZNAME:BST
DTSTART:20150329T020000Z
RRULE:FREQ=YEARLY;BYMONTH=3;BYDAY=-1SU
END:DAYLIGHT
BEGIN:STANDARD
TZOFFSETFROM:+0100
TZOFFSETTO:+0000
TZNAME:GMT
DTSTART:20151025T020000Z
RRULE:FREQ=YEARLY;BYMONTH=10;BYDAY=-1SU
END:STANDARD
END:VTIMEZONE
BEGIN:VEVENT
SUMMARY:Hard Mode Iron Front (ARMA 2)
DTSTAMP:20150703T183935Z
SEQUENCE:0
UID:239-1-5734b46ed07498cf109a779f6d92c724@wogames.info
ORGANIZER;CN="ToxaSM":no-reply@wogames.info
DESCRIPTION:\nВ Воскресенье 5 и
	юля в 21:00 (МСК) проводится Серьез
	ная игра на сервере\nARMA2.RU *Hard Mode* Iron Fron
	t \nIP Сервера: 81.88.208.221:2302\n
	\nПоследние и
	гры проводя
	тся с новыми
	 необычными
	 миссиями\,
	 примером м
	ожет посл
	ужить зимн
	яя миссия с 
	соответствую
	щей раскраско
	й\nДля регистр
	ации на проект
	е\, необходимо 
	\nпрочитать наст
	оящие правила и
	 отписаться в данной 
	теме о том\, что Вы с
	огласны их выпол
	нять. \n \nТак-же
	 для игры требуется устан
	овленный и настроенный ТС3 ве
	рсии 3.0.0 beta36 4.6.2 \nс 
	подключенны
	м плагином\nИнструкци
	я по установке ТСа и плагина для
	 него здесь\n \nTeam Speak проекта: IP: 193.19.119.1
	88 Port: 9987\, пароль: 1945\nКОМАНДИРЫ СТОРОН
	:\nКрасные:\n1.[KGB]Tony\n2.[RATS]Hannibal\nСиние:\n1.[DT]Heav
	y\n2.[RATS]Aspirant\nДо встречи на игре!\n
DTSTART;VALUE=DATE:20150705
END:VEVENT
END:VCALENDAR
