BEGIN:VCALENDAR
VERSION:2.0
PRODID:-//IP.Board Calendar 4.3.6//EN
METHOD:PUBLISH
CALSCALE:GREGORIAN
X-WR-CALNAME:WOG
BEGIN:VTIMEZONE
TZID:Europe/London
TZURL:http://tzurl.org/zoneinfo/Europe/London
X-LIC-LOCATION:Europe/London
BEGIN:DAYLIGHT
TZOFFSETFROM:+0000
TZOFFSETTO:+0100
TZNAME:BST
DTSTART:20150329T020000Z
RRULE:FREQ=YEARLY;BYMONTH=3;BYDAY=-1SU
END:DAYLIGHT
BEGIN:STANDARD
TZOFFSETFROM:+0100
TZOFFSETTO:+0000
TZNAME:GMT
DTSTART:20151025T020000Z
RRULE:FREQ=YEARLY;BYMONTH=10;BYDAY=-1SU
END:STANDARD
END:VTIMEZONE
BEGIN:VEVENT
SUMMARY:mWOG² IFA3 27.06.2015
DTSTAMP:20150626T064208Z
SEQUENCE:0
UID:231-1-5734b46ed07498cf109a779f6d92c724@wogames.info
ORGANIZER;CN="Jakeri":no-reply@wogames.info
DESCRIPTION:\n\n\n\n\n\n​В субботу 27 июня 
	в 18:00 (МСК) пройдет игра WOG2: Iron F
	ront\n\n\n\nИгры стартуют до бриф
	инга в 18:10\n\n\n\nИгры пройдут на сервере: WOG 
	Iron Front Server #1\n\n\n\nIP: 193.19.118.182 Port: 2322\n\n\n\nпар
	оль: wogames\n\n\n                                                     
	                                                 Собираемся в (
	17:45) TS: IP 193.19.119.188 Port: 9987\, пароль: 1945\n
DTSTART;VALUE=DATE:20150627
END:VEVENT
END:VCALENDAR
