BEGIN:VCALENDAR
VERSION:2.0
PRODID:-//IP.Board Calendar 4.3.6//EN
METHOD:PUBLISH
CALSCALE:GREGORIAN
X-WR-CALNAME:WOG
BEGIN:VTIMEZONE
TZID:Europe/London
TZURL:http://tzurl.org/zoneinfo/Europe/London
X-LIC-LOCATION:Europe/London
BEGIN:DAYLIGHT
TZOFFSETFROM:+0000
TZOFFSETTO:+0100
TZNAME:BST
DTSTART:20150329T020000Z
RRULE:FREQ=YEARLY;BYMONTH=3;BYDAY=-1SU
END:DAYLIGHT
BEGIN:STANDARD
TZOFFSETFROM:+0100
TZOFFSETTO:+0000
TZNAME:GMT
DTSTART:20151025T020000Z
RRULE:FREQ=YEARLY;BYMONTH=10;BYDAY=-1SU
END:STANDARD
END:VTIMEZONE
BEGIN:VEVENT
SUMMARY:mWOG 24.06.15 - Будничные игры
DTSTAMP:20150624T071544Z
SEQUENCE:0
UID:224-1-5734b46ed07498cf109a779f6d92c724@wogames.info
ORGANIZER;CN="DeFeNDeR":no-reply@wogames.info
DESCRIPTION:\n\n\n\n\nСписок миссий:\n1. Classic Miss
	ion ВС РФ — USMC [Остров — Chernarus] KND.TT в атаке
	 за USMC\n2. Witness TL — US Army [Остров — Takistan
	] KND.TT в обороне за US Army\n3. Захват д
	анных USMC — RA [Остров — Podagorsk] KND.TT за RA\n
DTSTART:20150624T170000Z
END:VEVENT
END:VCALENDAR
