BEGIN:VCALENDAR
VERSION:2.0
PRODID:-//IP.Board Calendar 4.3.6//EN
METHOD:PUBLISH
CALSCALE:GREGORIAN
X-WR-CALNAME:WOG
BEGIN:VTIMEZONE
TZID:Europe/London
TZURL:http://tzurl.org/zoneinfo/Europe/London
X-LIC-LOCATION:Europe/London
BEGIN:DAYLIGHT
TZOFFSETFROM:+0000
TZOFFSETTO:+0100
TZNAME:BST
DTSTART:20150329T020000Z
RRULE:FREQ=YEARLY;BYMONTH=3;BYDAY=-1SU
END:DAYLIGHT
BEGIN:STANDARD
TZOFFSETFROM:+0100
TZOFFSETTO:+0000
TZNAME:GMT
DTSTART:20151025T020000Z
RRULE:FREQ=YEARLY;BYMONTH=10;BYDAY=-1SU
END:STANDARD
END:VTIMEZONE
BEGIN:VEVENT
SUMMARY:mWOG 17.06.15 - Будничные игры
DTSTAMP:20150617T060513Z
SEQUENCE:1
UID:219-1-5734b46ed07498cf109a779f6d92c724@wogames.info
ORGANIZER;CN="ToxaSM":no-reply@wogames.info
DESCRIPTION:\n\n\n\n\nСписок миссий:\n1.
	 Особняк USMC — ЧВК [Остров — Capra
	ia] KND.TT в обороне\n2. Все пошло не так T
	L — USMC [Остров — Capraia] KND.TT в атаке\n3. Sel
	va base USMC — ВС РФ [Остров — Sahrani] KND.TT в обо
	роне\n
DTSTART;VALUE=DATE:20150617
END:VEVENT
END:VCALENDAR
