BEGIN:VCALENDAR
VERSION:2.0
PRODID:-//IP.Board Calendar 4.3.6//EN
METHOD:PUBLISH
CALSCALE:GREGORIAN
X-WR-CALNAME:WOG
BEGIN:VTIMEZONE
TZID:Europe/London
TZURL:http://tzurl.org/zoneinfo/Europe/London
X-LIC-LOCATION:Europe/London
BEGIN:DAYLIGHT
TZOFFSETFROM:+0000
TZOFFSETTO:+0100
TZNAME:BST
DTSTART:20150329T020000Z
RRULE:FREQ=YEARLY;BYMONTH=3;BYDAY=-1SU
END:DAYLIGHT
BEGIN:STANDARD
TZOFFSETFROM:+0100
TZOFFSETTO:+0000
TZNAME:GMT
DTSTART:20151025T020000Z
RRULE:FREQ=YEARLY;BYMONTH=10;BYDAY=-1SU
END:STANDARD
END:VTIMEZONE
BEGIN:VEVENT
SUMMARY:WOG² Iron Front
DTSTAMP:20150609T103805Z
SEQUENCE:0
UID:214-1-5734b46ed07498cf109a779f6d92c724@wogames.info
ORGANIZER;CN="Jakeri":no-reply@wogames.info
DESCRIPTION:\nИгры пройдут на сервере: WOG Iron Fro
	nt Server #1 в 21:00 (мск)\n\nIP: 193.19.118.182 Port: 2322\n\nп
	ароль: wogames\n\nСобираемся в (20:45) TS: IP 193.19.119.1
	88 Port: 9987\, пароль: 1945\n\n
DTSTART;VALUE=DATE:20150611
END:VEVENT
END:VCALENDAR
