BEGIN:VCALENDAR
VERSION:2.0
PRODID:-//IP.Board Calendar 4.3.6//EN
METHOD:PUBLISH
CALSCALE:GREGORIAN
X-WR-CALNAME:WOG
BEGIN:VTIMEZONE
TZID:Europe/London
TZURL:http://tzurl.org/zoneinfo/Europe/London
X-LIC-LOCATION:Europe/London
BEGIN:DAYLIGHT
TZOFFSETFROM:+0000
TZOFFSETTO:+0100
TZNAME:BST
DTSTART:20150329T020000Z
RRULE:FREQ=YEARLY;BYMONTH=3;BYDAY=-1SU
END:DAYLIGHT
BEGIN:STANDARD
TZOFFSETFROM:+0100
TZOFFSETTO:+0000
TZNAME:GMT
DTSTART:20151025T020000Z
RRULE:FREQ=YEARLY;BYMONTH=10;BYDAY=-1SU
END:STANDARD
END:VTIMEZONE
BEGIN:VEVENT
SUMMARY:Arma 3 WOG Iron Front
DTSTAMP:20150602T151822Z
SEQUENCE:1
UID:211-1-5734b46ed07498cf109a779f6d92c724@wogames.info
ORGANIZER;CN="Jakeri":no-reply@wogames.info
DESCRIPTION:\nСуббота в 16:00 (МСК)\nTS: IP 193.19.119.188 Po
	rt: 9987\, пароль: 1945\nИгры пройдут на сервере
	: WOG Iron Front Server #1\nIP: 193.19.118.182 Port: 2322\nпароль: w
	ogames\n
DTSTART;VALUE=DATE:20150606
END:VEVENT
END:VCALENDAR
