BEGIN:VCALENDAR
VERSION:2.0
PRODID:-//IP.Board Calendar 4.3.6//EN
METHOD:PUBLISH
CALSCALE:GREGORIAN
X-WR-CALNAME:WOG
BEGIN:VTIMEZONE
TZID:Europe/London
TZURL:http://tzurl.org/zoneinfo/Europe/London
X-LIC-LOCATION:Europe/London
BEGIN:DAYLIGHT
TZOFFSETFROM:+0000
TZOFFSETTO:+0100
TZNAME:BST
DTSTART:20150329T020000Z
RRULE:FREQ=YEARLY;BYMONTH=3;BYDAY=-1SU
END:DAYLIGHT
BEGIN:STANDARD
TZOFFSETFROM:+0100
TZOFFSETTO:+0000
TZNAME:GMT
DTSTART:20151025T020000Z
RRULE:FREQ=YEARLY;BYMONTH=10;BYDAY=-1SU
END:STANDARD
END:VTIMEZONE
BEGIN:VEVENT
SUMMARY:Arma 3 VTN 16:00 &#33\;Обновление
DTSTAMP:20150601T160244Z
SEQUENCE:1
UID:210-1-5734b46ed07498cf109a779f6d92c724@wogames.info
ORGANIZER;CN="mib":no-reply@wogames.info
DESCRIPTION:\nВоскресенье в 16:00\nСервер: 193.19.118.
	182:2332\nTeamSpeak: RedEagle.ru\nОбсуждение: http://wogames.inf
	o/topic/1396-vtn-obsuzhdenie/\n
DTSTART;VALUE=DATE:20150607
END:VEVENT
END:VCALENDAR
