BEGIN:VCALENDAR
VERSION:2.0
PRODID:-//IP.Board Calendar 4.3.6//EN
METHOD:PUBLISH
CALSCALE:GREGORIAN
X-WR-CALNAME:WOG
BEGIN:VTIMEZONE
TZID:Europe/London
TZURL:http://tzurl.org/zoneinfo/Europe/London
X-LIC-LOCATION:Europe/London
BEGIN:DAYLIGHT
TZOFFSETFROM:+0000
TZOFFSETTO:+0100
TZNAME:BST
DTSTART:20150329T020000Z
RRULE:FREQ=YEARLY;BYMONTH=3;BYDAY=-1SU
END:DAYLIGHT
BEGIN:STANDARD
TZOFFSETFROM:+0100
TZOFFSETTO:+0000
TZNAME:GMT
DTSTART:20151025T020000Z
RRULE:FREQ=YEARLY;BYMONTH=10;BYDAY=-1SU
END:STANDARD
END:VTIMEZONE
BEGIN:VEVENT
SUMMARY:mWOG² IF - 28.05.15
DTSTAMP:20150522T071850Z
SEQUENCE:0
UID:200-1-5734b46ed07498cf109a779f6d92c724@wogames.info
ORGANIZER;CN="ToxaSM":no-reply@wogames.info
DESCRIPTION:\n\n\n\n\n\nВ Четверг 28 мая в 21:
	00 (МСК) пройдёт игра WOG: Iron Front\n\n\n\nДа
	нные сервера\n\n\n\nWOG Iron Front Server #1\n\n\n\nIP: 193.19.
	118.182 Port: 2322\n\n\n\nСбор в нашем ТC‘е c 20:45 (IP: 193
	.19.119.188 Port: 9987 Pass: 1945) старт в 21:00.\n\n\
	n\n\nУрл репозитория был обновлён! \nftp://wogame
	s.info/Updater_WOG\\ArmA3Sync\\IF/ !\n\n\n\nМиссии на и
	гру:\n1. На связи\, \"Цен
	тр\" Партизаны (Ата
	ка\\Удержание\\Отступл
	ение) vs СС (Удержание\\П
	ерехват)\n2. Попкорн США (Атака) vs Г
	ермания (Оборона)\n
DTSTART;VALUE=DATE:20150528
END:VEVENT
END:VCALENDAR
