BEGIN:VCALENDAR
VERSION:2.0
PRODID:-//IP.Board Calendar 4.3.6//EN
METHOD:PUBLISH
CALSCALE:GREGORIAN
X-WR-CALNAME:WOG
BEGIN:VTIMEZONE
TZID:Europe/London
TZURL:http://tzurl.org/zoneinfo/Europe/London
X-LIC-LOCATION:Europe/London
BEGIN:DAYLIGHT
TZOFFSETFROM:+0000
TZOFFSETTO:+0100
TZNAME:BST
DTSTART:20150329T020000Z
RRULE:FREQ=YEARLY;BYMONTH=3;BYDAY=-1SU
END:DAYLIGHT
BEGIN:STANDARD
TZOFFSETFROM:+0100
TZOFFSETTO:+0000
TZNAME:GMT
DTSTART:20151025T020000Z
RRULE:FREQ=YEARLY;BYMONTH=10;BYDAY=-1SU
END:STANDARD
END:VTIMEZONE
BEGIN:VEVENT
SUMMARY:mWOG 20.05.15 - Будничные игры
DTSTAMP:20150520T113443Z
SEQUENCE:0
UID:198-1-5734b46ed07498cf109a779f6d92c724@wogames.info
ORGANIZER;CN="ToxaSM":no-reply@wogames.info
DESCRIPTION:\n\n\n\n\nСписок миссий:\n1.
	 Белый снег ВС РФ — USMC  [Остров — Chernarus
	 Winter] KND.TT за ВС РФ\n2. Extrusion USMC — TK Army [Ост
	ров — Sahrani] KND.TT в атаке за USMC\n3. Classic Mis
	sion ВС РФ — USMC [Остров — Chernarus] KND.TT в об
	ороне за USMC\n
DTSTART;VALUE=DATE:20150520
END:VEVENT
END:VCALENDAR
