BEGIN:VCALENDAR
VERSION:2.0
PRODID:-//IP.Board Calendar 4.3.6//EN
METHOD:PUBLISH
CALSCALE:GREGORIAN
X-WR-CALNAME:WOG
BEGIN:VTIMEZONE
TZID:Europe/London
TZURL:http://tzurl.org/zoneinfo/Europe/London
X-LIC-LOCATION:Europe/London
BEGIN:DAYLIGHT
TZOFFSETFROM:+0000
TZOFFSETTO:+0100
TZNAME:BST
DTSTART:20150329T020000Z
RRULE:FREQ=YEARLY;BYMONTH=3;BYDAY=-1SU
END:DAYLIGHT
BEGIN:STANDARD
TZOFFSETFROM:+0100
TZOFFSETTO:+0000
TZNAME:GMT
DTSTART:20151025T020000Z
RRULE:FREQ=YEARLY;BYMONTH=10;BYDAY=-1SU
END:STANDARD
END:VTIMEZONE
BEGIN:VEVENT
SUMMARY:mWOG 13.05.15 - Будничные игры
DTSTAMP:20150512T161111Z
SEQUENCE:0
UID:193-1-5734b46ed07498cf109a779f6d92c724@wogames.info
ORGANIZER;CN="ToxaSM":no-reply@wogames.info
DESCRIPTION:\n\n\n\n\nСписок миссий:\n1. Blind Extended  
	 USMC — NAPA [Остров - Chernarus]   KND.TT в обороне за 
	NAPA\n2. Hallo\, is it Pakistan?   U.S. Army Rangers — TL + PMC [О
	стров - FATA]   KND.TT в атаке за U.S. Army Rangers\
	n3. Особняк   USMC — PMC [Остров - Capraia]   KND.TT
	 в обороне за PMC\n
DTSTART;VALUE=DATE:20150513
END:VEVENT
END:VCALENDAR
