BEGIN:VCALENDAR
VERSION:2.0
PRODID:-//IP.Board Calendar 4.3.6//EN
METHOD:PUBLISH
CALSCALE:GREGORIAN
X-WR-CALNAME:WOG
BEGIN:VTIMEZONE
TZID:Europe/London
TZURL:http://tzurl.org/zoneinfo/Europe/London
X-LIC-LOCATION:Europe/London
BEGIN:DAYLIGHT
TZOFFSETFROM:+0000
TZOFFSETTO:+0100
TZNAME:BST
DTSTART:20150329T020000Z
RRULE:FREQ=YEARLY;BYMONTH=3;BYDAY=-1SU
END:DAYLIGHT
BEGIN:STANDARD
TZOFFSETFROM:+0100
TZOFFSETTO:+0000
TZNAME:GMT
DTSTART:20151025T020000Z
RRULE:FREQ=YEARLY;BYMONTH=10;BYDAY=-1SU
END:STANDARD
END:VTIMEZONE
BEGIN:VEVENT
SUMMARY:mWOG 29.04.15 - Будничные игры
DTSTAMP:20150429T120542Z
SEQUENCE:0
UID:181-1-5734b46ed07498cf109a779f6d92c724@wogames.info
ORGANIZER;CN="ToxaSM":no-reply@wogames.info
DESCRIPTION:\n\n\n\n\nСписок миссий:
	 \n1. Операция: Замок Целле ВС РФ — U
	S Army [Остров — Celle] KND.TT в атаке з
	а ВС РФ\n2. Шапур USMC — ТА [Остров
	 — Шапур] KND.TT в обороне за ТА\n3. First Backgrou
	nd Delta Force — TL [Остров — Такистан] KND.TT в ат
	аке за Delta Force\n
DTSTART;VALUE=DATE:20150429
END:VEVENT
END:VCALENDAR
