BEGIN:VCALENDAR
VERSION:2.0
PRODID:-//IP.Board Calendar 4.3.6//EN
METHOD:PUBLISH
CALSCALE:GREGORIAN
X-WR-CALNAME:WOG
BEGIN:VTIMEZONE
TZID:Europe/London
TZURL:http://tzurl.org/zoneinfo/Europe/London
X-LIC-LOCATION:Europe/London
BEGIN:DAYLIGHT
TZOFFSETFROM:+0000
TZOFFSETTO:+0100
TZNAME:BST
DTSTART:20150329T020000Z
RRULE:FREQ=YEARLY;BYMONTH=3;BYDAY=-1SU
END:DAYLIGHT
BEGIN:STANDARD
TZOFFSETFROM:+0100
TZOFFSETTO:+0000
TZNAME:GMT
DTSTART:20151025T020000Z
RRULE:FREQ=YEARLY;BYMONTH=10;BYDAY=-1SU
END:STANDARD
END:VTIMEZONE
BEGIN:VEVENT
SUMMARY:Iron Front: Hard Mode
DTSTAMP:20150424T193549Z
SEQUENCE:0
UID:174-1-5734b46ed07498cf109a779f6d92c724@wogames.info
ORGANIZER;CN="ToxaSM":no-reply@wogames.info
DESCRIPTION:\nВ Воскресенье 26 
	апреля в 21:00 (МСК) проводится 
	серьезная игра на сервере\nARMA2.RU *Hard Mod
	e* Iron Front\nIP Сервера: 81.88.208.221:2302
	\n\nДля регистра
	ции на проекте
	\, необходимо \
	nпрочитать нас
	тоящие правила
	 и отписаться в да
	нной теме о том\,
	 что согласен 
	их выполнять.\
	nТак-же для игры тре
	буется установленный и настро
	енный ТС3 версии 3.0.0 beta36 
	4.6.2 \nс подключ
	енным плаг
	ином\nПрош
	у обратит
	ь внимание
	 что введе
	на система 
	ротации ком
	андного состава
	 которая зависит
	 от кампании\nНа 
	этой недели коман
	дуют:\n22 марта Воскресенье\nКОМ
	АНДИРЫ СТОРОН:\nКрасные:\n1.[R]Barmaley185\n2.[KGB
	]Noma\nСиние\n1.[KnD.TT]Flayer\n2.[RATS]Hannibal\nПодро
	бности тут\nTeam Speak проекта: IP: 193.19.119.188 P
	ort: 9987\, пароль: 1945\n
DTSTART;VALUE=DATE:20150426
END:VEVENT
END:VCALENDAR
