BEGIN:VCALENDAR
VERSION:2.0
PRODID:-//IP.Board Calendar 4.3.6//EN
METHOD:PUBLISH
CALSCALE:GREGORIAN
X-WR-CALNAME:WOG
BEGIN:VTIMEZONE
TZID:Europe/London
TZURL:http://tzurl.org/zoneinfo/Europe/London
X-LIC-LOCATION:Europe/London
BEGIN:DAYLIGHT
TZOFFSETFROM:+0000
TZOFFSETTO:+0100
TZNAME:BST
DTSTART:20150329T020000Z
RRULE:FREQ=YEARLY;BYMONTH=3;BYDAY=-1SU
END:DAYLIGHT
BEGIN:STANDARD
TZOFFSETFROM:+0100
TZOFFSETTO:+0000
TZNAME:GMT
DTSTART:20151025T020000Z
RRULE:FREQ=YEARLY;BYMONTH=10;BYDAY=-1SU
END:STANDARD
END:VTIMEZONE
BEGIN:VEVENT
SUMMARY:WOG vs WOG3 (ARMA 3)
DTSTAMP:20150418T080155Z
SEQUENCE:0
UID:170-1-5734b46ed07498cf109a779f6d92c724@wogames.info
ORGANIZER;CN="ToxaSM":no-reply@wogames.info
DESCRIPTION:\n\n\n\n\n\nГод спустя\n\n\n\n«WOG Arma2» vs «W
	OG Arma3»\n\n\n\n19.04.2015 | 19:00 МСК\n\n\n\nСписок мисс
	ий:\n\n\n\n\n1. \nWOG 120 Гармсар  (RHS)\n\n\n\n\n 
	Армия Такистана - US Army [Oстров - Takistan]   
	     \n\n\n\n«Атака - A3» - «Оборона - А2»\n\n\n\n\n2. \n
	WOG 120 REBEL STORM: Skalistyj (RHS) версия 1а\n\n\n\n\n \n\n\
	n\nВС РФ - НАПА [Oстров - Chernarus]  \n\n\n\n   \n\
	n\n\n«Атака - A2» - «Оборона - А3»\n\n\n\n_______________
	_____________________________________________________________\n\n\nИ
	гры стартуют до брифинга в 1
	9:05\nБрифинг ограничен 20 
	мин\nСтарт 19:25\n \nП
	риоритет на за
	нятие слотов: по
	давшие заявку  отря
	ды\n \nПросьба подключи
	тся к каналу ТС за 15
	 минут до старта игр.\
	n \nИгры будут проходить
	 на сервере ТС отряда «RedEagle»\nИ
	гры пройдут на сервере: WOG ARMA3 Test Server\nIP: 193.
	19.118.182 Port: 2312\nпароль: wogames\nСобираемся в TS: 
	redeagle.ru:9999 (193.19.118.69:9999)\nРезервный TS: hardmodegame
	s.ru:9988\n_______________________________________________________________
	____\nСтрока запуска:\n-mod=@WOG3_Mods\;@AllInArmaTerrainPack
	\;@task_force_radio\;@WOG_Demo\;@RHSAFRF\;@RHSUSF\nИн
	струкция по установке
	 модов и обновлению!\n\nРегистрируемся н
	иже.\n\n\n\n\n\nWOG ARMA2      |    WOG ARMA3\n\n\n\n
DTSTART;VALUE=DATE:20150419
END:VEVENT
END:VCALENDAR
