BEGIN:VCALENDAR
VERSION:2.0
PRODID:-//IP.Board Calendar 4.3.6//EN
METHOD:PUBLISH
CALSCALE:GREGORIAN
X-WR-CALNAME:WOG
BEGIN:VTIMEZONE
TZID:Europe/London
TZURL:http://tzurl.org/zoneinfo/Europe/London
X-LIC-LOCATION:Europe/London
BEGIN:DAYLIGHT
TZOFFSETFROM:+0000
TZOFFSETTO:+0100
TZNAME:BST
DTSTART:20150329T020000Z
RRULE:FREQ=YEARLY;BYMONTH=3;BYDAY=-1SU
END:DAYLIGHT
BEGIN:STANDARD
TZOFFSETFROM:+0100
TZOFFSETTO:+0000
TZNAME:GMT
DTSTART:20151025T020000Z
RRULE:FREQ=YEARLY;BYMONTH=10;BYDAY=-1SU
END:STANDARD
END:VTIMEZONE
BEGIN:VEVENT
SUMMARY:mWOG² IF - 16.04.15
DTSTAMP:20150413T160314Z
SEQUENCE:0
UID:167-1-5734b46ed07498cf109a779f6d92c724@wogames.info
ORGANIZER;CN="ToxaSM":no-reply@wogames.info
DESCRIPTION:\n\n\n\n\n\nВсем привет\,\n\n\n\nВ 
	четверг\, 16 апреля в 21:00 (МСК) пройдёт 
	игра WOG: Iron Front\n\n\n\nДанные сервера\n\n\n\nWOG Iro
	n Front Server #1\n\n\n\nIP: 193.19.118.182 Port: 2322\n\n\n\nСб
	ор в нашем ТC‘е c 20:45 (IP: 193.19.119.188 Port: 9987 P
	ass: 1945) старт в 21:00.\n\n\nКарты на игр
	у:\nPowstanie\nВермахт в нап
	адаении. Армия Крайова
	 в обороне.\nКС Синих: J
	_g0re (Если больше 
	нет желающих. Есл
	и у вас большое же
	лание занять эту р
	оль\, пишите ЛС\, р
	азрулим)\nКС Зел
	ёных: вакантно\n
	Командный Пункт 
	\nВермахт в нападе
	нии. Красные в обо
	роне.\nКС Синих: 
	вакантно\nКС Кр
	асных: вакантно\nЕ
	сли кто-то хочет запи
	саться в КСы на этой
	 игре\, то ЛС мне.\
	n\nНа время игр ре
	позитории будут отключены\, скачива
	йте мод зараннее!\n\n\n
DTSTART;VALUE=DATE:20150416
END:VEVENT
END:VCALENDAR
