BEGIN:VCALENDAR
VERSION:2.0
PRODID:-//IP.Board Calendar 4.3.6//EN
METHOD:PUBLISH
CALSCALE:GREGORIAN
X-WR-CALNAME:WOG
BEGIN:VTIMEZONE
TZID:Europe/London
TZURL:http://tzurl.org/zoneinfo/Europe/London
X-LIC-LOCATION:Europe/London
BEGIN:DAYLIGHT
TZOFFSETFROM:+0000
TZOFFSETTO:+0100
TZNAME:BST
DTSTART:20150329T020000Z
RRULE:FREQ=YEARLY;BYMONTH=3;BYDAY=-1SU
END:DAYLIGHT
BEGIN:STANDARD
TZOFFSETFROM:+0100
TZOFFSETTO:+0000
TZNAME:GMT
DTSTART:20151025T020000Z
RRULE:FREQ=YEARLY;BYMONTH=10;BYDAY=-1SU
END:STANDARD
END:VTIMEZONE
BEGIN:VEVENT
SUMMARY:ARMA 2 Hard Mode IF
DTSTAMP:20150410T064152Z
SEQUENCE:0
UID:164-1-5734b46ed07498cf109a779f6d92c724@wogames.info
ORGANIZER;CN="ToxaSM":no-reply@wogames.info
DESCRIPTION:\nВ Воскресенье 12 
	апреля в 21:00 (МСК) проводится 
	Серьезная игра на сервере\nARMA2.RU *Hard Mod
	e* Iron Front \nIP Сервера: 81.88.208.221:2302
	\n\nДля регистра
	ции на проекте
	\, необходимо \
	nпрочитать нас
	тоящие правила
	 и отписаться в дан
	ной теме о том\, ч
	то согласен их
	 выполнять. \nТ
	ак-же для игры требуе
	тся установленный и настроенн
	ый ТС3 версии 3.0.0 beta36 4.6.
	2 \nс подключен
	ным плагино
	м \nПрошу о
	братить в
	нимание чт
	о введена с
	истема рота
	ции командн
	ого состава кото
	рая зависит от к
	ампании\nНа это
	й недели командуют:
	\n12 апреля Воскресенье\nКОМАНДИРЫ 
	СТОРОН:\nКрасные:\n1.Miher\n2. Poruchik\nСиние\n1.Dm
	orok\n2.Aspirant\nПодробности тут\nTeam Speak проекта
	: IP: 193.19.119.188 Port: 9987\, пароль: 1945\n
DTSTART;VALUE=DATE:20150412
END:VEVENT
END:VCALENDAR
