BEGIN:VCALENDAR
VERSION:2.0
PRODID:-//IP.Board Calendar 4.3.6//EN
METHOD:PUBLISH
CALSCALE:GREGORIAN
X-WR-CALNAME:WOG
BEGIN:VTIMEZONE
TZID:Europe/London
TZURL:http://tzurl.org/zoneinfo/Europe/London
X-LIC-LOCATION:Europe/London
BEGIN:DAYLIGHT
TZOFFSETFROM:+0000
TZOFFSETTO:+0100
TZNAME:BST
DTSTART:20150329T020000Z
RRULE:FREQ=YEARLY;BYMONTH=3;BYDAY=-1SU
END:DAYLIGHT
BEGIN:STANDARD
TZOFFSETFROM:+0100
TZOFFSETTO:+0000
TZNAME:GMT
DTSTART:20151025T020000Z
RRULE:FREQ=YEARLY;BYMONTH=10;BYDAY=-1SU
END:STANDARD
END:VTIMEZONE
BEGIN:VEVENT
SUMMARY:Weekly Open Games - 10.04.15
DTSTAMP:20150407T065614Z
SEQUENCE:0
UID:162-1-5734b46ed07498cf109a779f6d92c724@wogames.info
ORGANIZER;CN="ToxaSM":no-reply@wogames.info
DESCRIPTION:\n\n\n\n\n\nВнимание рот
	ация в тестовом режиме\n\n\n\nПервы
	й вариант:\n\n\n\nСторона 1: KND.TT \, HQ \, GB \, FMF \, D
	T \, MOR \, A+ \, UN \n\n\n\nСторона 2: SF \, RE \, FOX+DS \, ID \,
	 GHOST \, 5thPK \n\n\n\n\n\n\n\n\n\n\n\nВторой вариант
	:\n\n\n\nСторона 1: KND.TT \, HQ \, GB \, 5thPK \, MOR \, A+ \, UN 
	\n\n\n\nСторона 2: SF \, RE \, FOX+DS \, ID \, GHOST \, FMF \, DT  
	\n\n\n\nВ пятницу 10.04.15 играем:\n
	\n\n\n1. Принуждение к действию ВС
	 РС — ВДВ РФ[Остров — Sahrani] KND.TT в обороне
	\n\n\n\n2. Capture plant ЧСО — PMC [Остров — Chernarus]
	  KND.TT в атаке\n\n\n\n3. Battle Of Fallujah p.3  USMC — TA
	  [Остров - Fallujah] KND.TT в обороне\n\n\
	n\nТЕМА ДЛЯ ОБСУЖДЕНИЯ\n\n\n\n\n\n\n\n
DTSTART;VALUE=DATE:20150410
END:VEVENT
END:VCALENDAR
