BEGIN:VCALENDAR
VERSION:2.0
PRODID:-//IP.Board Calendar 4.3.6//EN
METHOD:PUBLISH
CALSCALE:GREGORIAN
X-WR-CALNAME:WOG
BEGIN:VTIMEZONE
TZID:Europe/London
TZURL:http://tzurl.org/zoneinfo/Europe/London
X-LIC-LOCATION:Europe/London
BEGIN:DAYLIGHT
TZOFFSETFROM:+0000
TZOFFSETTO:+0100
TZNAME:BST
DTSTART:20150329T020000Z
RRULE:FREQ=YEARLY;BYMONTH=3;BYDAY=-1SU
END:DAYLIGHT
BEGIN:STANDARD
TZOFFSETFROM:+0100
TZOFFSETTO:+0000
TZNAME:GMT
DTSTART:20151025T020000Z
RRULE:FREQ=YEARLY;BYMONTH=10;BYDAY=-1SU
END:STANDARD
END:VTIMEZONE
BEGIN:VEVENT
SUMMARY:Iron Front: Hard Mode
DTSTAMP:20150403T171632Z
SEQUENCE:0
UID:161-1-5734b46ed07498cf109a779f6d92c724@wogames.info
ORGANIZER;CN="ToxaSM":no-reply@wogames.info
DESCRIPTION:\nВ Воскресенье 5 а
	преля в 21:00 (МСК) проводится Се
	рьезная игра на сервере\nARMA2.RU *Hard Mode* I
	ron Front \nIP Сервера: 81.88.208.221:2302\n
	\nДля регистрац
	ии на проекте\
	, необходимо \
	nпрочитать наст
	оящие правила и
	 отписаться в данно
	й теме о том\, что 
	Вы согласны их
	 выполнять. \nТ
	ак-же для игры требуе
	тся установленный и настроенн
	ый ТС3 версии 3.0.0 beta36 4.6.2 \nс п
	одключенным плагином \nНовый Team Speak про
	екта: IP: 193.19.119.188 Port: 9987\, пароль
	: 1945\nКампания перенесен
	а на 12 апреля.\nКОМАНДИРЫ СТОРОН:\nКрас
	ные:\n1.Barmaley\n2.[KGB]Noma\nСиние:\n1.[KnD.TT]Flayer\n2.Ove
	rlord\nДо встречи на игре\n
DTSTART;VALUE=DATE:20150405
END:VEVENT
END:VCALENDAR
