BEGIN:VCALENDAR
VERSION:2.0
PRODID:-//IP.Board Calendar 4.3.6//EN
METHOD:PUBLISH
CALSCALE:GREGORIAN
X-WR-CALNAME:WOG
BEGIN:VTIMEZONE
TZID:Europe/London
TZURL:http://tzurl.org/zoneinfo/Europe/London
X-LIC-LOCATION:Europe/London
BEGIN:DAYLIGHT
TZOFFSETFROM:+0000
TZOFFSETTO:+0100
TZNAME:BST
DTSTART:20150329T020000Z
RRULE:FREQ=YEARLY;BYMONTH=3;BYDAY=-1SU
END:DAYLIGHT
BEGIN:STANDARD
TZOFFSETFROM:+0100
TZOFFSETTO:+0000
TZNAME:GMT
DTSTART:20151025T020000Z
RRULE:FREQ=YEARLY;BYMONTH=10;BYDAY=-1SU
END:STANDARD
END:VTIMEZONE
BEGIN:VEVENT
SUMMARY:Weekly Open Games - 04.04.15
DTSTAMP:20150401T072159Z
SEQUENCE:0
UID:160-1-5734b46ed07498cf109a779f6d92c724@wogames.info
ORGANIZER;CN="ToxaSM":no-reply@wogames.info
DESCRIPTION:\n\n\n\n\n\nВ субботу 04.04.15 играем:\
	n\n\n\n\n1. \nЕвропейский Гамбит ВС РФ — US
	 Forces   [Остров — Celle] KND.TT в атаке\n\n\n\n
	\n\n2. \nЕда и патроны NAPA — ChDKZ [Остров — Cherna
	rus - Winter] KND.TT в обороне\n\n\n\n\n\n3. \nClassic Missio
	n USMC — ВС РФ [Остров — Chernarus] KND.TT в а
	таке\n\n\n\n\n\n\nТЕМА ДЛЯ ОБСУЖДЕНИЯ\n\n\n\n
DTSTART;VALUE=DATE:20150404
END:VEVENT
END:VCALENDAR
