BEGIN:VCALENDAR
VERSION:2.0
PRODID:-//IP.Board Calendar 4.3.6//EN
METHOD:PUBLISH
CALSCALE:GREGORIAN
X-WR-CALNAME:WOG
BEGIN:VTIMEZONE
TZID:Europe/London
TZURL:http://tzurl.org/zoneinfo/Europe/London
X-LIC-LOCATION:Europe/London
BEGIN:DAYLIGHT
TZOFFSETFROM:+0000
TZOFFSETTO:+0100
TZNAME:BST
DTSTART:20150329T020000Z
RRULE:FREQ=YEARLY;BYMONTH=3;BYDAY=-1SU
END:DAYLIGHT
BEGIN:STANDARD
TZOFFSETFROM:+0100
TZOFFSETTO:+0000
TZNAME:GMT
DTSTART:20151025T020000Z
RRULE:FREQ=YEARLY;BYMONTH=10;BYDAY=-1SU
END:STANDARD
END:VTIMEZONE
BEGIN:VEVENT
SUMMARY:Weekly Open Games - 03.04.15
DTSTAMP:20150401T072134Z
SEQUENCE:0
UID:159-1-5734b46ed07498cf109a779f6d92c724@wogames.info
ORGANIZER;CN="ToxaSM":no-reply@wogames.info
DESCRIPTION:\n\n\n\n\n\nВ пятницу 03.04.15 играем:\
	n\n\n\n\n1. \nСедьмой лепесток: Часть 1 
	ВС РФ — USMC  [Остров — Caribou] KND.TT в обо
	роне\n\n\n\n\n\n2. \nХолод ВС РФ — US Army [Остро
	в — Podagorsk] KND.TT в атаке\n\n\n\n\n\n3.
	 \nПромышленная зона BAF — Ополче
	ние [Остров - Fallujah] KND.TT в обороне
	\n\n\n\n\n\n\nТЕМА ДЛЯ ОБСУЖДЕНИЯ\n\n\n\n
DTSTART;VALUE=DATE:20150403
END:VEVENT
END:VCALENDAR
