BEGIN:VCALENDAR
VERSION:2.0
PRODID:-//IP.Board Calendar 4.3.6//EN
METHOD:PUBLISH
CALSCALE:GREGORIAN
X-WR-CALNAME:WOG
BEGIN:VTIMEZONE
TZID:Europe/London
TZURL:http://tzurl.org/zoneinfo/Europe/London
X-LIC-LOCATION:Europe/London
BEGIN:DAYLIGHT
TZOFFSETFROM:+0000
TZOFFSETTO:+0100
TZNAME:BST
DTSTART:20150329T020000Z
RRULE:FREQ=YEARLY;BYMONTH=3;BYDAY=-1SU
END:DAYLIGHT
BEGIN:STANDARD
TZOFFSETFROM:+0100
TZOFFSETTO:+0000
TZNAME:GMT
DTSTART:20151025T020000Z
RRULE:FREQ=YEARLY;BYMONTH=10;BYDAY=-1SU
END:STANDARD
END:VTIMEZONE
BEGIN:VEVENT
SUMMARY:mWOG² IF - 02.05.15
DTSTAMP:20150331T142130Z
SEQUENCE:0
UID:156-1-5734b46ed07498cf109a779f6d92c724@wogames.info
ORGANIZER;CN="ToxaSM":no-reply@wogames.info
DESCRIPTION:\n\n\n\n\n\nВсем привет\,\n\n\n\nВ 
	четверг 2 апреля в 21:00 (МСК) пройдёт и
	гра WOG: Iron Front\n\n\n\nДанные сервера\n\n\n\nWOG Iron 
	Front Server #1\n\n\n\nIP: 193.19.118.182 Port: 2322\n\n\n\nСбо
	р в нашем ТC‘е c 20:45 (IP: 193.19.119.188 Port: 9987 Pas
	s: 1945) старт в 21:00.\n\n\n\nНа
	 время игр репозитории 
	будут отключены\, скачивайте мод заранн
	ее!\n\n\n
DTSTART;VALUE=DATE:20150402
END:VEVENT
END:VCALENDAR
