BEGIN:VCALENDAR
VERSION:2.0
PRODID:-//IP.Board Calendar 4.3.6//EN
METHOD:PUBLISH
CALSCALE:GREGORIAN
X-WR-CALNAME:WOG
BEGIN:VTIMEZONE
TZID:Europe/London
TZURL:http://tzurl.org/zoneinfo/Europe/London
X-LIC-LOCATION:Europe/London
BEGIN:DAYLIGHT
TZOFFSETFROM:+0000
TZOFFSETTO:+0100
TZNAME:BST
DTSTART:20150329T020000Z
RRULE:FREQ=YEARLY;BYMONTH=3;BYDAY=-1SU
END:DAYLIGHT
BEGIN:STANDARD
TZOFFSETFROM:+0100
TZOFFSETTO:+0000
TZNAME:GMT
DTSTART:20151025T020000Z
RRULE:FREQ=YEARLY;BYMONTH=10;BYDAY=-1SU
END:STANDARD
END:VTIMEZONE
BEGIN:VEVENT
SUMMARY:Iron Front: Hard Mode (ARMA 2)
DTSTAMP:20150320T153939Z
SEQUENCE:0
UID:149-1-5734b46ed07498cf109a779f6d92c724@wogames.info
ORGANIZER;CN="ToxaSM":no-reply@wogames.info
DESCRIPTION:\nВ Воскресенье 22 м
	арта в 21:00 (МСК) проводится серь
	езная игра на сервере\nARMA2.RU *Hard Mode* Iron 
	Front\nIP Сервера: 81.88.208.221:2302\n\
	nДля регистрац
	ии на проекте\
	, необходимо \
	nпрочитать нас
	тоящие правила
	 и отписаться в да
	нной теме о том\,
	 что согласен 
	их выполнять.\
	nТак-же для игры тре
	буется установленный и настро
	енный ТС3 версии 3.0.0 beta36 4
	.6.2 \nс подключе
	нным плагин
	ом \nПрошу 
	обратить 
	внимание 
	что введе
	на система 
	ротации ком
	андного состава
	 которая зависит
	 от кампании\nНа 
	этой недели коман
	дуют:\n22 марта Воскресенье\nКОМ
	АНДИРЫ СТОРОН:\nКрасные:\n1.[GB]Defender\n2.[18A]K
	ortik\nСиние\n1.[KnD.TT]Flayer\n2.[RATS]Hannibal\nПодро
	бности тут\nTeam Speak проекта: IP: 193.19.119.188 P
	ort: 9987\, пароль: 1945\n
DTSTART;VALUE=DATE:20150322
END:VEVENT
END:VCALENDAR
