BEGIN:VCALENDAR
VERSION:2.0
PRODID:-//IP.Board Calendar 4.3.6//EN
METHOD:PUBLISH
CALSCALE:GREGORIAN
X-WR-CALNAME:WOG
BEGIN:VTIMEZONE
TZID:Europe/London
TZURL:http://tzurl.org/zoneinfo/Europe/London
X-LIC-LOCATION:Europe/London
BEGIN:DAYLIGHT
TZOFFSETFROM:+0000
TZOFFSETTO:+0100
TZNAME:BST
DTSTART:20150329T020000Z
RRULE:FREQ=YEARLY;BYMONTH=3;BYDAY=-1SU
END:DAYLIGHT
BEGIN:STANDARD
TZOFFSETFROM:+0100
TZOFFSETTO:+0000
TZNAME:GMT
DTSTART:20151025T020000Z
RRULE:FREQ=YEARLY;BYMONTH=10;BYDAY=-1SU
END:STANDARD
END:VTIMEZONE
BEGIN:VEVENT
SUMMARY:Weekly Open Games - 20.03.15
DTSTAMP:20150316T153350Z
SEQUENCE:0
UID:144-1-5734b46ed07498cf109a779f6d92c724@wogames.info
ORGANIZER;CN="ToxaSM":no-reply@wogames.info
DESCRIPTION:\n\n\n\n\n\nВ пятницу 20.03.15 играем:\n\n\n\n
	\n1. \nHot Summer TA + ChDKZ — TL + NAPA [Остров — Sahrani
	] KND.TT в обороне\n\n\n\n\n\n2. \nDir
	t ТА — Местное ополчение [Остров — Clafg
	han] KND.TT в атаке\n\n\n\n\n\n3. \nPark of the dead USMC/Delta
	 — INS [Остров — Fallujah] KND.TT в обо
	роне \n\n\n\n\nТЕМА ДЛЯ ОБСУЖДЕНИЯ\n\n\n
DTSTART;VALUE=DATE:20150320
END:VEVENT
END:VCALENDAR
