BEGIN:VCALENDAR
VERSION:2.0
PRODID:-//IP.Board Calendar 4.3.6//EN
METHOD:PUBLISH
CALSCALE:GREGORIAN
X-WR-CALNAME:WOG
BEGIN:VTIMEZONE
TZID:Europe/London
TZURL:http://tzurl.org/zoneinfo/Europe/London
X-LIC-LOCATION:Europe/London
BEGIN:DAYLIGHT
TZOFFSETFROM:+0000
TZOFFSETTO:+0100
TZNAME:BST
DTSTART:20150329T020000Z
RRULE:FREQ=YEARLY;BYMONTH=3;BYDAY=-1SU
END:DAYLIGHT
BEGIN:STANDARD
TZOFFSETFROM:+0100
TZOFFSETTO:+0000
TZNAME:GMT
DTSTART:20151025T020000Z
RRULE:FREQ=YEARLY;BYMONTH=10;BYDAY=-1SU
END:STANDARD
END:VTIMEZONE
BEGIN:VEVENT
SUMMARY:MIG - The Battle of Tall Kochak
DTSTAMP:20150316T103418Z
SEQUENCE:0
UID:143-1-5734b46ed07498cf109a779f6d92c724@wogames.info
ORGANIZER;CN="ToxaSM":no-reply@wogames.info
DESCRIPTION:\n\n\n \n\n\n\nSyria 2013\nThe Syrian army (SAA) is fighting
	 for every city\, which control the rebels (Free Syrian Army – FSA). Now
	 reached the province Faysh Khabur\, where freed Abu Wajnam airport. Accor
	ding to confirmed sources\, SAA moves the new heavy fighting techniques to
	 the airport and probably is going to attack the largest city Tall Kochak 
	and thus wants to break the resistance throughout the area. FSA is prepari
	ng to attack and called in reinforcements from other territories. Fierce b
	attle for the city begins…\nDate: 29.03. 2015 (Sunday)\nTime: 15:00 hrs 
	(GMT + 2) Check your GMT!)\nStart login to server: 14:30 hrs - Mission is 
	ready for login.\nStart briefing: 15:00 hrs. - Mission go to briefing.\nSt
	art game: 15:30 hrs - Mission start.\n\nmore on www.mig.pw\n\n\n\n\n\n\n\n
	\n\nЗАПИСАТЬСЯ НА MIG ОТ ПРОЕКТА WOG
	\n\n\n\n\n\n\nТЕМА ДЛЯ ОБСУЖДЕНИЯ (ENG)\n\n\n\n
DTSTART;VALUE=DATE:20150329
END:VEVENT
END:VCALENDAR
