BEGIN:VCALENDAR
VERSION:2.0
PRODID:-//IP.Board Calendar 4.3.6//EN
METHOD:PUBLISH
CALSCALE:GREGORIAN
X-WR-CALNAME:WOG
BEGIN:VTIMEZONE
TZID:Europe/London
TZURL:http://tzurl.org/zoneinfo/Europe/London
X-LIC-LOCATION:Europe/London
BEGIN:DAYLIGHT
TZOFFSETFROM:+0000
TZOFFSETTO:+0100
TZNAME:BST
DTSTART:20150329T020000Z
RRULE:FREQ=YEARLY;BYMONTH=3;BYDAY=-1SU
END:DAYLIGHT
BEGIN:STANDARD
TZOFFSETFROM:+0100
TZOFFSETTO:+0000
TZNAME:GMT
DTSTART:20151025T020000Z
RRULE:FREQ=YEARLY;BYMONTH=10;BYDAY=-1SU
END:STANDARD
END:VTIMEZONE
BEGIN:VEVENT
SUMMARY:Weekly Open Games - 13.03.15
DTSTAMP:20150312T123827Z
SEQUENCE:0
UID:140-1-5734b46ed07498cf109a779f6d92c724@wogames.info
ORGANIZER;CN="ToxaSM":no-reply@wogames.info
DESCRIPTION:\n\n\n\n\n\nВ пятницу 13.03.15 играем:\n\n\n\n
	\n1. \nde_garmsar PMC — US Black OPS  [Остров — Takistan
	] KND.TT в обороне\n\n\n\n\n\n2. \nСистема
	 Про ВС РФ — US Army [Остров — Celle2] KND.TT в ата
	ке\n\n\n\n\n\n3. \nAircav ЧСО — ЧДКЗ [Остров — 
	Podagorsk] KND.TT в обороне\n\n\n\n\nТЕМА ДЛЯ ОБС
	УЖДЕНИЯ\n\n\n
DTSTART;VALUE=DATE:20150313
END:VEVENT
END:VCALENDAR
