BEGIN:VCALENDAR
VERSION:2.0
PRODID:-//IP.Board Calendar 4.3.6//EN
METHOD:PUBLISH
CALSCALE:GREGORIAN
X-WR-CALNAME:WOG
BEGIN:VTIMEZONE
TZID:Europe/London
TZURL:http://tzurl.org/zoneinfo/Europe/London
X-LIC-LOCATION:Europe/London
BEGIN:DAYLIGHT
TZOFFSETFROM:+0000
TZOFFSETTO:+0100
TZNAME:BST
DTSTART:20150329T020000Z
RRULE:FREQ=YEARLY;BYMONTH=3;BYDAY=-1SU
END:DAYLIGHT
BEGIN:STANDARD
TZOFFSETFROM:+0100
TZOFFSETTO:+0000
TZNAME:GMT
DTSTART:20151025T020000Z
RRULE:FREQ=YEARLY;BYMONTH=10;BYDAY=-1SU
END:STANDARD
END:VTIMEZONE
BEGIN:VEVENT
SUMMARY:mWOG 04.05.15 - Будничные игры
DTSTAMP:20150303T201333Z
SEQUENCE:0
UID:130-1-5734b46ed07498cf109a779f6d92c724@wogames.info
ORGANIZER;CN="ToxaSM":no-reply@wogames.info
DESCRIPTION:\n\n\n\n\n\nСписок миссий:\n\n\n1. mWOG RAID ON 
	THE AIR  SAS - ТА CпН [остров - ToraBora] Сторона 
	KND.TT - Сторона SF\n2. mWOG RED HARVEST  \nЧДКЗ\n\n -
	 \n\nЧСО \n\n[остров - Чернарусь]\n\n \n\n
	Сторона SF \n- \n\nСторона KND.TT\n\n3. mWO
	G КРОВАВЫЙ РАССВЕТ  \nРА \n\n- USMC \n\n[ост
	ров - Podagorsk] \nСторона KND.TT \n\n- \n\nСторона SF\n\
	n
DTSTART;VALUE=DATE:20150304
END:VEVENT
END:VCALENDAR
