BEGIN:VCALENDAR
VERSION:2.0
PRODID:-//IP.Board Calendar 4.3.6//EN
METHOD:PUBLISH
CALSCALE:GREGORIAN
X-WR-CALNAME:WOG
BEGIN:VTIMEZONE
TZID:Europe/London
TZURL:http://tzurl.org/zoneinfo/Europe/London
X-LIC-LOCATION:Europe/London
BEGIN:DAYLIGHT
TZOFFSETFROM:+0000
TZOFFSETTO:+0100
TZNAME:BST
DTSTART:20150329T020000Z
RRULE:FREQ=YEARLY;BYMONTH=3;BYDAY=-1SU
END:DAYLIGHT
BEGIN:STANDARD
TZOFFSETFROM:+0100
TZOFFSETTO:+0000
TZNAME:GMT
DTSTART:20151025T020000Z
RRULE:FREQ=YEARLY;BYMONTH=10;BYDAY=-1SU
END:STANDARD
END:VTIMEZONE
BEGIN:VEVENT
SUMMARY:mWOG² - 05.03.15
DTSTAMP:20150227T133907Z
SEQUENCE:0
UID:123-1-5734b46ed07498cf109a779f6d92c724@wogames.info
ORGANIZER;CN="ToxaSM":no-reply@wogames.info
DESCRIPTION:\n\n\n\n\n\nВсем привет\,\n\n\n\nВ ч
	етверг 5 марта в 21:00 (МСК) пройдёт про
	бная игра WOG: Iron Front\n\n\n\nДанные сервера\n\n\n
	\nWOG Iron Front Server #1\n\n\n\nIP: 193.19.118.182 Port: 2322\n\n\n\n
	Сбор в нашем ТC‘е c 20:45 (IP: 193.19.119.188 Port: 998
	7 Pass: 1945) старт в 21:00.\n\n\n\
	nНа время игр репо
	зитории будут отключены\, с
	качивайте мод зараннее!\n\n\n\n\n\nCсылка
	 ArmA3Sync на Lite версию:\nftp://wogames.info/ArmA3Sync/IF_Lite/.
	a3s/autoconfig\nСсылка ArmA3Sync на полную версию*:\nf
	tp://wogames.info/ArmA3Sync/IF\n*Только о
	бладателям оригинальной игры Iron
	 Front Liberation 1944. За получ
	ением логина и
	 пароля обраща
	йтесь ко мне в ли
	чку.\nСтрока запуска на сегодн
	яшний день выглядит так:\n-nosplash\; -mod=@CBA_A3\;@L
	IB_DLC_1\;@IF\;@IFA3SA\;@IFA3M\;@IFA3\;@task_force_radio\;@WOG_IF\n
	Инструкция по использованию ArmA3Sync 
	доступна тут\n\n\n
DTSTART;VALUE=DATE:20150305
END:VEVENT
END:VCALENDAR
