BEGIN:VCALENDAR
VERSION:2.0
PRODID:-//IP.Board Calendar 4.3.6//EN
METHOD:PUBLISH
CALSCALE:GREGORIAN
X-WR-CALNAME:WOG
BEGIN:VTIMEZONE
TZID:Europe/London
TZURL:http://tzurl.org/zoneinfo/Europe/London
X-LIC-LOCATION:Europe/London
BEGIN:DAYLIGHT
TZOFFSETFROM:+0000
TZOFFSETTO:+0100
TZNAME:BST
DTSTART:20260329T020000Z
RRULE:FREQ=YEARLY;BYMONTH=3;BYDAY=-1SU
END:DAYLIGHT
BEGIN:STANDARD
TZOFFSETFROM:+0100
TZOFFSETTO:+0000
TZNAME:GMT
DTSTART:20261025T020000Z
RRULE:FREQ=YEARLY;BYMONTH=10;BYDAY=-1SU
END:STANDARD
END:VTIMEZONE
BEGIN:VEVENT
SUMMARY:Weekly Open Games 24.04.2026 - 25.04.2026
DTSTAMP:20260419T200347Z
SEQUENCE:0
UID:1163-1-5734b46ed07498cf109a779f6d92c724@wogames.info
ORGANIZER;CN="WOGlNFO":no-reply@wogames.info
DESCRIPTION:\n\n	        Cторона 1: FRWL + DOG + BE + 5th + L1
	3 + A-team + SSOT + RDO + NN | Сторона 2: LG + FOX + DT + MOR + S
	RR + HMG + SPQR + TERA + Team 0-8-0\n\n\n	В пятницу 24.04.2
	026 играем:\n\n\n\n	1. Лин
	ия жизни ВС Мо
	лдовы - ВС Приднес
	тровья [Остров - Бекето
	вский район] Сторона 1 в атаке\n\n\
	n\n	2. Оперение стрелы Cordillera Defense Pact
	 - US Army [Остров - Колумбия] Сторо
	на 1 в обороне\n\n\n\n	\nВ субботу 25.04.2026 иг
	раем:\n\n\n\n	1. Better Late Than Never ВДВ СССР - 
	US Army [Остров - Максниеми] Сторона 1 в о
	бороне\n\n\n\n	2. Takistan Invasion USMC - Takistan 
	Army [Остров - Северный
	 Такистан] Сторона 1 в атаке\n\n\n\
	n	Резервная миссия:\n\n\n\n	La dévoilement Forces A
	rmées Françaises - PMC [Mull of Kintyre]\n\n\n	Командован
	ие:\n\n\n\n	\n\n\n	Внимани
	е! Расписание 
	и миссии могут быть
	 обновлены в тече
	ние недели! След
	ите за темами!\n\n\n	Технич
	еская информация для подключения:\n\n
	\n\n	\n		Спойлер\n	\n\n	\n		\n			IP игрового сервер
	а: 88.99.69.243\n		\n\n		\n			Порт игрового с
	ервера: 2302\n\n			Пароль: wogames\n		\n\n		\n			Team
	Speak сервер: wogames.info:9987\n		\n\n		\n			Строка З
	апуска:\n		\n\n		\n			-mod=@CUP_Terrains_Core\;@CUP_Terrains_Maps\;@
	RHSGREF\;@RHSSAF\;@RHSUSAF\;@RHSAFRF\;@WOG_ACE\;@WOG_Mods\;@WOG_BAF\;@WOG_
	BW\;@WOG_Islands\;@WOG_Extra\;@YuEmod\;@TFAR\;\n		\n\n		\n			Ре
	позиторий (Arma3Synс):\n		\n\n		\n			http://88.99.69.232:8080/.a
	3s/autoconfig\n		\n	\n\n
DTSTART:20260424T174000Z
DTEND:20260425T190000Z
END:VEVENT
END:VCALENDAR
