BEGIN:VCALENDAR
VERSION:2.0
PRODID:-//IP.Board Calendar 4.3.6//EN
METHOD:PUBLISH
CALSCALE:GREGORIAN
X-WR-CALNAME:Ивенты
BEGIN:VTIMEZONE
TZID:Europe/London
TZURL:http://tzurl.org/zoneinfo/Europe/London
X-LIC-LOCATION:Europe/London
BEGIN:DAYLIGHT
TZOFFSETFROM:+0000
TZOFFSETTO:+0100
TZNAME:BST
DTSTART:20260329T020000Z
RRULE:FREQ=YEARLY;BYMONTH=3;BYDAY=-1SU
END:DAYLIGHT
BEGIN:STANDARD
TZOFFSETFROM:+0100
TZOFFSETTO:+0000
TZNAME:GMT
DTSTART:20261025T020000Z
RRULE:FREQ=YEARLY;BYMONTH=10;BYDAY=-1SU
END:STANDARD
END:VTIMEZONE
BEGIN:VEVENT
SUMMARY:18.01.2026 WOG vs Arma Sudamerica
DTSTAMP:20260114T001103Z
SEQUENCE:0
UID:1149-8-5734b46ed07498cf109a779f6d92c724@wogames.info
ORGANIZER;CN="WOGlNFO":no-reply@wogames.info
DESCRIPTION:\n\n	 \n\n\n\n	  В воскресенье 18.0
	1.2026 играем в 20:00 по МСК :    \n\n\n\n	 П
	ервая миссия - Welcome to the North﻿  AF
	RF + US Army [Остров - Чернорусь 20
	20 ]  Сторона WOG в обороне\
	n\n\n\n	Вторая миссия - Древко 
	Стрелы  USMC- AF RF + OO [Остро
	в - Колумбия ] Сторона WOG в атаке
	\n\nКомандование:\n\n\n\n	\
	n\n\n	\nТехническая информация д
	ля подключения:\n\n\n\n	\n		Спойлер\n	
	\n\n	\n		\n			IP игрового сервера: 88.99.69.243
	\n		\n\n		\n			Порт игрового сервера: 2302\n\n	
			Пароль: wogames\n		\n\n		\n			TeamSpeak сервер: wogames.in
	fo:9987\n		\n\n		\n			Строка Запуска:\n		\n\n		\n			-mod=@CUP
	_Terrains_Core\;@CUP_Terrains_Maps\;@RHSGREF\;@RHSSAF\;@RHSUSAF\;@RHSAFRF\
	;@WOG_ACE\;@WOG_Mods\;@WOG_BAF\;@WOG_BW\;@WOG_Islands\;@YuEmod\;@TFAR\;\n	
		\n\n		\n			Репозиторий (Arma3Synс):\n		\n\n		\n			http://88.9
	9.69.232:8080/.a3s/autoconfig\n\nСсылка на коллекци
	ю в стиме:\nhttps://steamcommunity.com/sharedfiles/filedetails/?id=
	3630653290\n		\n	\n\n\n\n	 \n\n
DTSTART:20260118T170000Z
END:VEVENT
END:VCALENDAR
