BEGIN:VCALENDAR
VERSION:2.0
PRODID:-//IP.Board Calendar 4.3.6//EN
METHOD:PUBLISH
CALSCALE:GREGORIAN
X-WR-CALNAME:WOG
BEGIN:VTIMEZONE
TZID:Europe/London
TZURL:http://tzurl.org/zoneinfo/Europe/London
X-LIC-LOCATION:Europe/London
BEGIN:DAYLIGHT
TZOFFSETFROM:+0000
TZOFFSETTO:+0100
TZNAME:BST
DTSTART:20240331T020000Z
RRULE:FREQ=YEARLY;BYMONTH=3;BYDAY=-1SU
END:DAYLIGHT
BEGIN:STANDARD
TZOFFSETFROM:+0100
TZOFFSETTO:+0000
TZNAME:GMT
DTSTART:20241027T020000Z
RRULE:FREQ=YEARLY;BYMONTH=10;BYDAY=-1SU
END:STANDARD
END:VTIMEZONE
BEGIN:VEVENT
SUMMARY:Weekly Open Games 11.10.2024 - 12.10.2024
DTSTAMP:20241007T163427Z
SEQUENCE:0
UID:1081-1-5734b46ed07498cf109a779f6d92c724@wogames.info
ORGANIZER;CN="WOGlNFO":no-reply@wogames.info
DESCRIPTION:\n\n	Cторона 1: FRWL + HMG + BE + MOR + L-13 + A
	-TEAM |  Сторона 2: LG + SSOT + 5th + SRR + SOKIL + FOX\n\n\n\n
		 \n\n\n\n	    В пятницу 11.10.2024 играем:    \n\n\n\n
		1. Poseidons Wrath USMC ﻿- Taksitan Army 
	[Остров - Северный Такистан] Сторон
	а 1 в обороне\n\n\n\n	2. De Obiecto Ast
	rorum ВСЛ - ВДВ РФ [Остров -
	  Корсак] Сторона 1 в атаке\n\n
	\n\n	3. По количеству игроков\n\n
	\n\n	    Игровой администратор - [FRWL] Er
	ron\n\n\n\n	 \n\n\n\n	 В субботу 12.10.2024 играем:\n\
	n\n\n	1. Al-Borat Боевики ﻿- P
	MC [Остров - Провинция Решман] Стор
	она 1 в атаке\n\n\n\n	2. Pavlovo Light﻿ Ч
	СО + USMC - ВСРФ + ЧДКЗ [Ос
	тров - Черноруссия 2020 ] Ст
	орона 1 в обороне\n\n\n\n	  3
	. По количеству игроков\n\n\n\n
		    Игровой администратор - [BE]Nya
	m_Cat\n\n\n\n	 \n\n\n\n	Резервные миссии:\n\n
	\n\n	Замена первой - Blitzkrieg 2  US
	 Army - МСВ РФ + ВДВ РФ [Ост
	ров - Черноруссия]\n\n\n\n
		Замена второй - Спаси и Сахра
	ни USA - SLA [Остров - Сахрани]\n\n\n\n	 \
	n\n\n\n	Командование:\n\n\n\n	\n\n\n	 
	\n\n\n\n	Внимание! 
	Расписание и
	 миссии могут быть об
	новлены в течение недел
	и! Следите за темами!\
	n\n\n\n	 \n\n	Техническая инфор
	мация для подключения:\n\n\n\n	\n		Сп
	ойлер\n	\n\n	\n		\n			IP игрового сервера: 88.99.
	69.243\n		\n\n		\n			Порт игрового сервера: 630
	89\n\n			Пароль: wogames\n		\n\n		\n			TeamSpeak сервер: wog
	ames.info:9987\n		\n\n		\n			Строка Запуска:\n		\n\n		\n			-m
	od=@CUP_Terrains_Core\;@CUP_Terrains_Maps\;@RHSGREF\;@RHSSAF\;@RHSUSAF\;@R
	HSAFRF\;@WOG_ACE\;@WOG_Mods\;@WOG_BAF\;@WOG_BW\;@WOG_Islands\;@YuEmod\;@TF
	AR\;\n		\n\n		\n			Репозиторий (Arma3Synс):\n		\n\n		\n			http
	://88.99.69.232:8080/.a3s/autoconfig\n		\n	\n\n\n\n	 \n\n
DTSTART:20241011T180000Z
DTEND:20241012T180000Z
END:VEVENT
END:VCALENDAR
