BEGIN:VCALENDAR
VERSION:2.0
PRODID:-//IP.Board Calendar 4.3.6//EN
METHOD:PUBLISH
CALSCALE:GREGORIAN
X-WR-CALNAME:WOG
BEGIN:VTIMEZONE
TZID:Europe/London
TZURL:http://tzurl.org/zoneinfo/Europe/London
X-LIC-LOCATION:Europe/London
BEGIN:DAYLIGHT
TZOFFSETFROM:+0000
TZOFFSETTO:+0100
TZNAME:BST
DTSTART:20150329T020000Z
RRULE:FREQ=YEARLY;BYMONTH=3;BYDAY=-1SU
END:DAYLIGHT
BEGIN:STANDARD
TZOFFSETFROM:+0100
TZOFFSETTO:+0000
TZNAME:GMT
DTSTART:20151025T020000Z
RRULE:FREQ=YEARLY;BYMONTH=10;BYDAY=-1SU
END:STANDARD
END:VTIMEZONE
BEGIN:VEVENT
SUMMARY:mWOG² 12.02.15 - Iron Front
DTSTAMP:20150211T072710Z
SEQUENCE:0
UID:108-1-5734b46ed07498cf109a779f6d92c724@wogames.info
ORGANIZER;CN="ToxaSM":no-reply@wogames.info
DESCRIPTION:\n\n\n\n\n\nВсем привет\,\n\n\n\nВ
	 четверг 12 Февраля в 21:00 (МСК) на WOG Ir
	on Front Server #1 сервере пройдёт игра Iron Front
	: Arma3\, \n\n\n\nДанные сервера\n\n\n\nIP: 193.19.118.182 Po
	rt: 2322\n\n\n\nСбор в нашем ТC‘е в 20:45 (IP: 193.19.119.1
	88 Port: 9987 Pass: 1945)\n\n\n\nНа вре
	мя игр репозитории будут отклю
	чены\, скачивайте мод зараннее!\n\n\n
DTSTART;VALUE=DATE:20150212
END:VEVENT
END:VCALENDAR
