BEGIN:VCALENDAR
VERSION:2.0
PRODID:-//IP.Board Calendar 4.3.6//EN
METHOD:PUBLISH
CALSCALE:GREGORIAN
X-WR-CALNAME:WOG
BEGIN:VTIMEZONE
TZID:Europe/London
TZURL:http://tzurl.org/zoneinfo/Europe/London
X-LIC-LOCATION:Europe/London
BEGIN:DAYLIGHT
TZOFFSETFROM:+0000
TZOFFSETTO:+0100
TZNAME:BST
DTSTART:20150329T020000Z
RRULE:FREQ=YEARLY;BYMONTH=3;BYDAY=-1SU
END:DAYLIGHT
BEGIN:STANDARD
TZOFFSETFROM:+0100
TZOFFSETTO:+0000
TZNAME:GMT
DTSTART:20151025T020000Z
RRULE:FREQ=YEARLY;BYMONTH=10;BYDAY=-1SU
END:STANDARD
END:VTIMEZONE
BEGIN:VEVENT
SUMMARY:mWOG 11.02.15 - Будничные игры
DTSTAMP:20150209T111604Z
SEQUENCE:0
UID:106-1-5734b46ed07498cf109a779f6d92c724@wogames.info
ORGANIZER;CN="ToxaSM":no-reply@wogames.info
DESCRIPTION:\n\n\n\n\n \nСписок миссий:\
	n1. Аэропорт (встречный бой) USMC — ВС
	 РФ [Остров — Chernarus] KND.TT за USMC\n2. Deep Strike 7
	5th Ranger — ВС РФ [Остров — Zargabad] KND.TT в атак
	е за 75th Ranger\n3. Wietzendorf Assault  KSK — NAPA [Остров 
	— Celle] KND.TT в обороне за NAPA \n
DTSTART;VALUE=DATE:20150211
END:VEVENT
END:VCALENDAR
