BEGIN:VCALENDAR
VERSION:2.0
PRODID:-//IP.Board Calendar 4.3.6//EN
METHOD:PUBLISH
CALSCALE:GREGORIAN
X-WR-CALNAME:WOG
BEGIN:VTIMEZONE
TZID:Europe/London
TZURL:http://tzurl.org/zoneinfo/Europe/London
X-LIC-LOCATION:Europe/London
BEGIN:DAYLIGHT
TZOFFSETFROM:+0000
TZOFFSETTO:+0100
TZNAME:BST
DTSTART:20240331T020000Z
RRULE:FREQ=YEARLY;BYMONTH=3;BYDAY=-1SU
END:DAYLIGHT
BEGIN:STANDARD
TZOFFSETFROM:+0100
TZOFFSETTO:+0000
TZNAME:GMT
DTSTART:20241027T020000Z
RRULE:FREQ=YEARLY;BYMONTH=10;BYDAY=-1SU
END:STANDARD
END:VTIMEZONE
BEGIN:VEVENT
SUMMARY:Weekly Open Games 23.02.2024 - 24.02.2024
DTSTAMP:20240218T185323Z
SEQUENCE:0
UID:1046-1-5734b46ed07498cf109a779f6d92c724@wogames.info
ORGANIZER;CN="WOGlNFO":no-reply@wogames.info
DESCRIPTION:\n\n	Cторона 1: KND + GHOST + MOR + HMG + WFA + CTU + 
	FOX + A-Team + SSOT  |  Сторона 2: FRWL + JW + BE + SRR + SOKIL
	 + LG + DT + L-13\n\n\n\n	 \n\n\n\n	    В пятницу 23.0
	2.2024 играем:    \n\n\
	n\n	1. Кры
	лья с
	оветов 
	 НА респ
	ублики Та
	кистан ﻿- 
	Армия коро﻿левства 
	Такистан [Остров - Решман] Сторо
	на 1 в Обороне\n\n\n\n	    2. Dark Ni
	ght  USAF - РЧВК [Остров - Шум
	ава] Сторона 1 в Атаке\n\n\n
	\n	3. По количеству игроков\n\n
	\n\n	    Игровой администратор - [FRWL] 
	Erron\n\n\n\n	 \n\n\n\n	 В субботу 24.02.2024 иг
	раем:\n\n\n\n	1. Курильский кризи
	с  ВС РФ -  JSDF + US Army [Остров - 
	Таноа] Сторона 1 в Атаке\n\n\n\n	2. Battle under b
	old mountain﻿  Insurgents ﻿- PMC R.U.B.B.I.S
	.H. [Остров - Мальден] Стор
	она 1 в Обороне\n\n\n\n	  3. 
	По количеству игроков\n\n\n\n
		    Игровой администратор - \n\
	n\n\n	 \n\n\n\n	Резервные миссии:\n\n\n\n	
	Замена первой - Blitzkrieg 2  U
	S Army - МСВ РФ + ВДВ РФ [Остр
	ов - Черноруссия]\n\n\n\n	Замена вто
	рой - Gentlemen visit  BAF - Боевики [Ос
	тров - Анизай]\n\n	 \n\n\n\n	Командов
	ание:\n\n\n\n	\n\n\n	Внима
	ние! Расписан
	ие и миссии могут 
	быть обновлены в течени
	е недели! Следите за те
	мами!\n\n\n\n	 \n\n	Техническая 
	информация для подключения:\n\n\n\n	
	\n		Спойлер\n	\n\n	\n		\n			IP игрового сервера: 88
	.99.69.243\n		\n\n		\n			Порт игрового сервера:
	 63089\n\n			Пароль: wogames\n		\n\n		\n			TeamSpeak сервер
	: wogames.info:9987\n		\n\n		\n			Строка Запуска:\n		\n\n		\
	n			-mod=@CUP_Terrains_Core\;@CUP_Terrains_Maps\;@RHSGREF\;@RHSSAF\;@RHSUS
	AF\;@RHSAFRF\;@WOG_ACE\;@WOG_Mods\;@WOG_BAF\;@WOG_BW\;@WOG_Islands\;@YuEmo
	d\;@TFAR\;\n		\n\n		\n			Репозиторий (Arma3Synс):\n		\n\n		\n	
			http://88.99.69.232:8080/.a3s/autoconfig\n		\n	\n\n\n\n	 \n\n
DTSTART:20240223T180000Z
DTEND:20240224T205900Z
END:VEVENT
END:VCALENDAR
