BEGIN:VCALENDAR
VERSION:2.0
PRODID:-//IP.Board Calendar 4.3.6//EN
METHOD:PUBLISH
CALSCALE:GREGORIAN
X-WR-CALNAME:WOG
BEGIN:VTIMEZONE
TZID:Europe/London
TZURL:http://tzurl.org/zoneinfo/Europe/London
X-LIC-LOCATION:Europe/London
BEGIN:DAYLIGHT
TZOFFSETFROM:+0000
TZOFFSETTO:+0100
TZNAME:BST
DTSTART:20240331T020000Z
RRULE:FREQ=YEARLY;BYMONTH=3;BYDAY=-1SU
END:DAYLIGHT
BEGIN:STANDARD
TZOFFSETFROM:+0100
TZOFFSETTO:+0000
TZNAME:GMT
DTSTART:20241027T020000Z
RRULE:FREQ=YEARLY;BYMONTH=10;BYDAY=-1SU
END:STANDARD
END:VTIMEZONE
BEGIN:VEVENT
SUMMARY:Weekly Open Games 16.02.2024 - 17.02.2024
DTSTAMP:20240212T195706Z
SEQUENCE:0
UID:1045-1-5734b46ed07498cf109a779f6d92c724@wogames.info
ORGANIZER;CN="WOGlNFO":no-reply@wogames.info
DESCRIPTION:\n\n	Cторона 1: KND + GHOST + MOR + HMG + WFA + CTU + 
	FOX + A-Team + SSOT  |  Сторона 2: FRWL + JW + BE + SRR + SOKIL 
	+ LG + DT + L-13\n\n\n\n	 \n\n\n\n	    В пятницу 16.02
	.2024 играем:    \n\n\n\n	1. Panzermensch  NVA + KdA
	 ﻿- US Army [Остров - Р﻿оше] Сторона 1 в 
	Атаке\n\n\n\n	    2. Exit Strategy  AAF -
	 BAF [Остров - Алтис] Стор
	она 1 в Обороне\n\n\n\n	3. П
	о количеству игроков\n\n\n\n	  
	  Игровой администратор -\n\n\n\n	 \
	n\n\n\n	 В субботу 17.02.2024 играем:\n\n\n\n	1. Siege o
	f Vybor  USA -  RAF ﻿- SGNP [Остров
	 - Черноруссия 2020] Сторона 1 в Обороне\n
	\n\n\n	2. Change of loyalty﻿  TKA ﻿-
	 Боевики [Остров - Заргаб
	ад] Сторона 1 в Атаке\n\n\n\n
		  3. По количеству игроков\
	n\n\n\n	    Игровой администрато
	р - \n\n\n\n	 \n\n\n\n	Резервные миссии:\n
	\n\n\n	Замена первой - Blitzkrieg 2  U
	S Army - МСВ РФ + ВДВ РФ [Остр
	ов - Черноруссия]\n\n\n\n	Замена вто
	рой - Gentlemen visit  BAF - Боевики [Ос
	тров - Анизай]\n\n	 \n\n\n\n	Ком
	андование:\n\n\n\n	
	Внимание! Мис
	сии могут быть обновлен
	ы в течение недели! Сле
	дите за темами!\n\n\n\n	 \
	n\n	Техническая информация для п
	одключения:\n\n\n\n	\n		Спойлер\n	\n\n	\n
			\n			IP игрового сервера: 88.99.69.243\
	n		\n\n		\n			Порт игрового сервера: 63089\n\n	
			Пароль: wogames\n		\n\n		\n			TeamSpeak сервер: wogames.in
	fo:9987\n		\n\n		\n			Строка Запуска:\n		\n\n		\n			-mod=@CUP
	_Terrains_Core\;@CUP_Terrains_Maps\;@RHSGREF\;@RHSSAF\;@RHSUSAF\;@RHSAFRF\
	;@WOG_ACE\;@WOG_Mods\;@WOG_BAF\;@WOG_BW\;@WOG_Islands\;@YuEmod\;@TFAR\;\n	
		\n\n		\n			Репозиторий (Arma3Synс):\n		\n\n		\n			http://88.9
	9.69.232:8080/.a3s/autoconfig\n		\n\n		\n			 \n		\n	\n\n\n\n	 \n\n\n\n	
	 \n\n
DTSTART:20240216T180000Z
DTEND:20240217T205900Z
END:VEVENT
END:VCALENDAR
