BEGIN:VCALENDAR
VERSION:2.0
PRODID:-//IP.Board Calendar 4.3.6//EN
METHOD:PUBLISH
CALSCALE:GREGORIAN
X-WR-CALNAME:WOG
BEGIN:VTIMEZONE
TZID:Europe/London
TZURL:http://tzurl.org/zoneinfo/Europe/London
X-LIC-LOCATION:Europe/London
BEGIN:DAYLIGHT
TZOFFSETFROM:+0000
TZOFFSETTO:+0100
TZNAME:BST
DTSTART:20240331T020000Z
RRULE:FREQ=YEARLY;BYMONTH=3;BYDAY=-1SU
END:DAYLIGHT
BEGIN:STANDARD
TZOFFSETFROM:+0100
TZOFFSETTO:+0000
TZNAME:GMT
DTSTART:20241027T020000Z
RRULE:FREQ=YEARLY;BYMONTH=10;BYDAY=-1SU
END:STANDARD
END:VTIMEZONE
BEGIN:VEVENT
SUMMARY:Weekly Open Games 05.01.2024 - 06.01.2024
DTSTAMP:20240102T182523Z
SEQUENCE:0
UID:1039-1-5734b46ed07498cf109a779f6d92c724@wogames.info
ORGANIZER;CN="WOGlNFO":no-reply@wogames.info
DESCRIPTION:\n\n	Cторона 1: KND + GHOST + MOR + HMG + WFA + CTU + 
	FOX + A-Team + SSOT  |  Сторона 2: FRWL + JW + BE + SRR + SOKIL 
	+ LG + DT + L-13\n\n\n\n	 \n\n\n\n	    В пятницу 05.01
	.2024 играем:    \n\n\n\n	1. Croatia W
	argame  ВС Хорватии ﻿-
	 ВС Кастовии [Остров - Напф] Стор
	она 1 в Обороне\n\n\n\n	    2. Sahrani Conflict  SLA
	 - RACS + US Army [Остров - Сахрани] 
	Сторона 1 в Атаке\n\n\n\n	3.
	 По количеству игроков\n\n\n\
	n	    Игровой администратор - \n\n\
	n\n	 \n\n\n\n	 В субботу 06.01.2024 играем:\n\n\n
	\n	1. Gatecrasher  Армия США 
	﻿- ВС РФ [Остров - Алтис] Сторона 1 в Ат
	аке\n\n\n\n	2. Fool's Road ReArmed﻿  USMC - Irregular M
	ilitia [Остров - Подагорск] Ст
	орона 1 в Обороне\n\n\n\n	  3.
	 По количеству игроков\n\n\n\n
		    Игровой администратор - 
	\n\n	 \n\n\n\n	Резервные миссии:\n\n\n\n	З
	амена первой - Blitzkrieg 2  US
	 Army - МСВ РФ + ВДВ РФ [Остро
	в - Черноруссия]\n\n	 \n\n\n\n	
	Командование:\n\n\
	n\n	Внимание! Ми
	ссии могут быть обновл
	ены в течение недели!
	 Следите за темами!\n\n\
	n\n	\nТехническая информация для
	 подключения:\n\n\n\n	\n		Спойлер\n	\n\n
		\n		\n			IP игрового сервера: 88.99.69.243\
	n		\n\n		\n			Порт игрового сервера: 63089\n\n	
			Пароль: wogames\n		\n\n		\n			TeamSpeak сервер: wogames.in
	fo:9987\n		\n\n		\n			Строка Запуска:\n		\n\n		\n			-mod=@CUP
	_Terrains_Core\;@CUP_Terrains_Maps\;@RHSGREF\;@RHSSAF\;@RHSUSAF\;@RHSAFRF\
	;@WOG_ACE\;@WOG_Mods\;@WOG_BAF\;@WOG_BW\;@WOG_Islands\;@YuEmod\;@TFAR\;\n	
		\n\n		\n			Репозиторий (Arma3Synс):\n		\n\n		\n			http://88.9
	9.69.232:8080/.a3s/autoconfig\n		\n	\n\n\n\n	 \n\n
DTSTART:20240105T180000Z
DTEND:20240106T205900Z
END:VEVENT
END:VCALENDAR
