BEGIN:VCALENDAR
VERSION:2.0
PRODID:-//IP.Board Calendar 4.3.6//EN
METHOD:PUBLISH
CALSCALE:GREGORIAN
X-WR-CALNAME:WOG
BEGIN:VTIMEZONE
TZID:Europe/London
TZURL:http://tzurl.org/zoneinfo/Europe/London
X-LIC-LOCATION:Europe/London
BEGIN:DAYLIGHT
TZOFFSETFROM:+0000
TZOFFSETTO:+0100
TZNAME:BST
DTSTART:20230326T020000Z
RRULE:FREQ=YEARLY;BYMONTH=3;BYDAY=-1SU
END:DAYLIGHT
BEGIN:STANDARD
TZOFFSETFROM:+0100
TZOFFSETTO:+0000
TZNAME:GMT
DTSTART:20231029T020000Z
RRULE:FREQ=YEARLY;BYMONTH=10;BYDAY=-1SU
END:STANDARD
END:VTIMEZONE
BEGIN:VEVENT
SUMMARY:Weekly Open Games 10.11.2023 - 11.11.2023
DTSTAMP:20231107T015050Z
SEQUENCE:0
UID:1030-1-5734b46ed07498cf109a779f6d92c724@wogames.info
ORGANIZER;CN="WOGlNFO":no-reply@wogames.info
DESCRIPTION:\n\n	Cторона 1: KND + GHOST + MOR + HMG + WFA + CTU
	 + FOX + A-Team + SSOT  |  Сторона 2: FRWL + JW + BE + 
	SRR + SOKIL + LG + DT + L-13\n\n\n\n	 \n\n\n\n	    В пятн
	ицу 10.11.2023 играем:    \n\n\n\n	1. Stronghol
	d  CSAT ﻿- LDF [Остров - Трасса 
	7] Сторона 1 в Обороне\n\n
	\n\n	    2. Перевал  Б
	оевики - КСОР [Остров - Т
	акистан] Сторона 1 в Атаке\n
	\n\n\n	3. По количеству игроков
	\n\n\n\n	    Игровой администратор - [SR
	R]SOF\n\n\n\n	 \n\n\n\n	 В субботу 11.11.2023 игр
	аем:\n\n\n\n	1. Мир Галилее
	  АОИ ﻿- СА + ООП [Остров
	 - Алтис] Сторона 1 в Атаке\
	n\n\n\n	2. Перестрелка в Тис
	ах USMC - МСВ РФ [Остро
	в - Черноруссия 2020] Сторона 1
	 в Атаке (Встречный бой)\n\n\n
	\n	  3. По количеству игроков
	\n\n\n\n	    Игровой администратор -
	 \n\n\n\n	\n\n	 \n\n\n\n	Резервная миссия:\n\n\n\n	La 
	dévoilement  Forces armées françaises - PMC Bum [О
	стров - Мыс Кинтайр]\n\n	 \n\n\n\n	 К
	омандование:\n\n\n\n	\n\
	n\n	Внимание! Ми
	ссии могут быть обновл
	ены в течение недели!
	 Следите за темами!\n\n\
	n\n	\nТехническая информация для
	 подключения:\n\n\n\n	\n		Спойлер\n	\n\n
		\n		\n			IP игрового сервера: 88.99.69.243\
	n		\n\n		\n			Порт игрового сервера: 63089\n\n	
			Пароль: wogames\n		\n\n		\n			TeamSpeak сервер: wogames.in
	fo:9987\n		\n\n		\n			Строка Запуска:\n		\n\n		\n			-mod=@CUP
	_Terrains_Core\;@CUP_Terrains_Maps\;@RHSGREF\;@RHSSAF\;@RHSUSAF\;@RHSAFRF\
	;@WOG_ACE\;@WOG_Mods\;@WOG_BAF\;@WOG_BW\;@WOG_Islands\;@YuEmod\;@TFAR\;\n	
		\n\n		\n			Репозиторий (Arma3Synс):\n		\n\n		\n			http://88.9
	9.69.232:8080/.a3s/autoconfig\n		\n	\n\n\n\n	 \n\n\n\n	 \n\n
DTSTART:20231110T180000Z
DTEND:20231111T205900Z
END:VEVENT
END:VCALENDAR
