BEGIN:VCALENDAR
VERSION:2.0
PRODID:-//IP.Board Calendar 4.3.6//EN
METHOD:PUBLISH
CALSCALE:GREGORIAN
X-WR-CALNAME:WOG
BEGIN:VTIMEZONE
TZID:Europe/London
TZURL:http://tzurl.org/zoneinfo/Europe/London
X-LIC-LOCATION:Europe/London
BEGIN:DAYLIGHT
TZOFFSETFROM:+0000
TZOFFSETTO:+0100
TZNAME:BST
DTSTART:20150329T020000Z
RRULE:FREQ=YEARLY;BYMONTH=3;BYDAY=-1SU
END:DAYLIGHT
BEGIN:STANDARD
TZOFFSETFROM:+0100
TZOFFSETTO:+0000
TZNAME:GMT
DTSTART:20151025T020000Z
RRULE:FREQ=YEARLY;BYMONTH=10;BYDAY=-1SU
END:STANDARD
END:VTIMEZONE
BEGIN:VEVENT
SUMMARY:Weekly Open Games - 07.02.15
DTSTAMP:20150203T155126Z
SEQUENCE:0
UID:103-1-5734b46ed07498cf109a779f6d92c724@wogames.info
ORGANIZER;CN="ToxaSM":no-reply@wogames.info
DESCRIPTION:\n\n\n\n\n\nВ субботу 07.02.2015 играем:\n\n\n
	\n\n1. \nOperation «Rebel Storm»: Skalistyj​ ВС РФ —
	 НАПА [Остров — Chernarus] KND.TT в атаке\n
	\n\n\n\n\n2. \nНа медведя ВС РФ - НАПА+PMC [
	Остров — Thirsk] KND.TT в обороне\n\n\n\n\n\
	n3. \nЧак-Чак TM — TL [Остров — Takistan] KND
	.TT в атаке\n\n\n\n\nТЕМА ДЛЯ ОБСУЖДЕНИЯ\n\n\n
DTSTART;VALUE=DATE:20150207
END:VEVENT
END:VCALENDAR
