BEGIN:VCALENDAR
VERSION:2.0
PRODID:-//IP.Board Calendar 4.3.6//EN
METHOD:PUBLISH
CALSCALE:GREGORIAN
X-WR-CALNAME:Ивенты
BEGIN:VTIMEZONE
TZID:Europe/London
TZURL:http://tzurl.org/zoneinfo/Europe/London
X-LIC-LOCATION:Europe/London
BEGIN:DAYLIGHT
TZOFFSETFROM:+0000
TZOFFSETTO:+0100
TZNAME:BST
DTSTART:20230326T020000Z
RRULE:FREQ=YEARLY;BYMONTH=3;BYDAY=-1SU
END:DAYLIGHT
BEGIN:STANDARD
TZOFFSETFROM:+0100
TZOFFSETTO:+0000
TZNAME:GMT
DTSTART:20231029T020000Z
RRULE:FREQ=YEARLY;BYMONTH=10;BYDAY=-1SU
END:STANDARD
END:VTIMEZONE
BEGIN:VEVENT
SUMMARY:WOG VTN 24.09.2023
DTSTAMP:20230919T061028Z
SEQUENCE:0
UID:1021-8-5734b46ed07498cf109a779f6d92c724@wogames.info
ORGANIZER;CN="neVALYAshka":no-reply@wogames.info
DESCRIPTION:\n\n	Игры с использованием VETERAN MOD'
	а.\n\n\n\n	 \n\n\n\n	Сбор 18:00 МСК\, 24.09.2023. Старт 1
	8:30 МСК.\n\n\n\n	Репозиторий WOG VTN: ftp://88.99.69.243/R
	epo/WOG_VTN/.a3s/autoconfig\n\n\n\n	IP сервера: 88.99.69.243:63089\
	n\n\n\n	 \n\n\n\n	Подключать 9 модов:\n\n\n\n	@
	VTN (Steam/репозиторий WOG VTN)\n\n\n\n	@MODS (репоз
	иторий WOG VTN)\n\n\n\n	@TFAR (репозиторий WO
	G/репозиторий WOG VTN)\n\n\n\n	@CUP_Terraines_Core 
	(Steam/репозиторий WOG VTN)\n\n\n\n	@CUP_Terraines_
	Maps (Steam/репозиторий WOG VTN)\n\n\n\n	@CUP_Terraines_Map
	s_2.0 (Steam/репозиторий WOG VTN)\n\n\n\n	@Sa'h
	atra (Steam/репозиторий WOG VTN)\n\n\n\n	@Sa'hatra: Army of
	 Saddam (Steam/репозиторий WOG VTN)\n\n\n\n	@JSRS S
	OUNDMOD - Steam/репозиторий WOG\n\n\n\n
		 \n\n\n\n	Следите за изм
	енениями: на неделе будет обновление сб
	орки.\n\n
DTSTART:20230924T150000Z
DTEND:20230924T180000Z
END:VEVENT
END:VCALENDAR
