BEGIN:VCALENDAR
VERSION:2.0
PRODID:-//IP.Board Calendar 4.3.6//EN
METHOD:PUBLISH
CALSCALE:GREGORIAN
X-WR-CALNAME:WOG
BEGIN:VTIMEZONE
TZID:Europe/London
TZURL:http://tzurl.org/zoneinfo/Europe/London
X-LIC-LOCATION:Europe/London
BEGIN:DAYLIGHT
TZOFFSETFROM:+0000
TZOFFSETTO:+0100
TZNAME:BST
DTSTART:20230326T020000Z
RRULE:FREQ=YEARLY;BYMONTH=3;BYDAY=-1SU
END:DAYLIGHT
BEGIN:STANDARD
TZOFFSETFROM:+0100
TZOFFSETTO:+0000
TZNAME:GMT
DTSTART:20231029T020000Z
RRULE:FREQ=YEARLY;BYMONTH=10;BYDAY=-1SU
END:STANDARD
END:VTIMEZONE
BEGIN:VEVENT
SUMMARY:Weekly Open Games 26.05.2023 - 27.05.2023
DTSTAMP:20230521T194532Z
SEQUENCE:0
UID:1001-1-5734b46ed07498cf109a779f6d92c724@wogames.info
ORGANIZER;CN="WOGlNFO":no-reply@wogames.info
DESCRIPTION:\n\n	Cторона 1: KND + FRWL + MOR + JW + FOX + HM
	G  + L13 + SRR   |  Сторона 2: BE + LG + GHOST + A-Team
	 + SSOT + DT + WFA + SOKIL\n\n\n\n	 \n\n\n\n	    В пятн
	ицу 26.05.2023 играем:    \n\n\
	n\n	1. Удар в псину  
	ВС Турции - ВС Греции [Ос
	тров - Мальден 2035] Сторона 
	1 в Обороне\n\n\n\n	    2
	. Фарватер '84  ВС 
	СССР - Армия Ливонии [Остр
	ов - Трасса 7] Сторона 1 в Атаке\
	n\n\n\n	3. По количеству игрок
	ов\n\n\n\n	    Игровой администрато
	р - \n\n	 \n\n\n\n	    В субботу 27.05.2023 играем:\n
	\n\n\n	1. Democratization  NATO - ВС РФ
	 [Остров - Бекетов] Сторона 1 в Атаке
	\n\n\n\n	2. Glenramskill  BAF - ВС РФ 
	[Остров - Мыс Кинтайр] С
	торона 1 в Обороне\n\n\n\n	 
	 3. По количеству игроков\n\n\
	n\n	    Игровой администратор - [L-13
	] Mattoni\n\n	 \n\n\n\n	    Командова
	ние: \n\n\n\n	 Внима
	ние! Миссии могут 
	быть обновлены в те
	чение недели! След
	ите за темами!\n\n\n\n	Техни
	ческая информация для подключения:\n\
	n\n\n	\n		Спойлер\n	\n\n	\n		\n			IP игрового серве
	ра: 88.99.69.243\n		\n\n		\n			Порт игрового
	 сервера: 63089\n\n			Пароль: wogames\n		\n\n		\n			
	TeamSpeak сервер: wogames.info:9987\n		\n\n		\n			Стро
	ка Запуска:\n		\n\n		\n			-mod=@CUP_Terrains_Core\;@CUP_Terrains_
	Maps\;@RHSGREF\;@RHSSAF\;@RHSUSAF\;@RHSAFRF\;@WOG_ACE\;@WOG_Mods\;@WOG_BAF
	\;@WOG_BW\;@WOG_Islands\;@YuEmod\;@TFAR\;\n		\n\n		\n			Репозит
	орий (Arma3Synс):\n		\n\n		\n			http://88.99.69.232:8080/.a3s/autocon
	fig\n		\n	\n\n\n\n	 \n\n
DTSTART:20230526T180000Z
DTEND:20230527T205900Z
END:VEVENT
END:VCALENDAR
