BEGIN:VCALENDAR
VERSION:2.0
PRODID:-//IP.Board Calendar 4.3.6//EN
METHOD:PUBLISH
CALSCALE:GREGORIAN
X-WR-CALNAME:WOG
BEGIN:VTIMEZONE
TZID:Europe/London
TZURL:http://tzurl.org/zoneinfo/Europe/London
X-LIC-LOCATION:Europe/London
BEGIN:DAYLIGHT
TZOFFSETFROM:+0000
TZOFFSETTO:+0100
TZNAME:BST
DTSTART:20150329T020000Z
RRULE:FREQ=YEARLY;BYMONTH=3;BYDAY=-1SU
END:DAYLIGHT
BEGIN:STANDARD
TZOFFSETFROM:+0100
TZOFFSETTO:+0000
TZNAME:GMT
DTSTART:20151025T020000Z
RRULE:FREQ=YEARLY;BYMONTH=10;BYDAY=-1SU
END:STANDARD
END:VTIMEZONE
BEGIN:VEVENT
SUMMARY:mWOG 04.02.15 - Будничные игры
DTSTAMP:20150202T123943Z
SEQUENCE:0
UID:100-1-5734b46ed07498cf109a779f6d92c724@wogames.info
ORGANIZER;CN="ToxaSM":no-reply@wogames.info
DESCRIPTION:\n\n\n\n\n\n\n\n \nСписок миссий:\
	n1. Захват данных USMC — RA [Остров — Podagorsk] K
	ND.TT за RA\n2. Farm drug МСВ РФ — NAPA [Остров — Po
	dagorsk] KND.TT в обороне за NAPA\n3. Hallo\, is it Pakistan? US
	 Army Rangers — TL+PMC [Остров — FATA] KND.TT в атаке за
	 US Army Rangers\n
DTSTART;VALUE=DATE:20150204
END:VEVENT
END:VCALENDAR
