BEGIN:VCALENDAR
VERSION:2.0
PRODID:-//IP.Board Calendar 4.3.6//EN
METHOD:PUBLISH
CALSCALE:GREGORIAN
X-WR-CALNAME:WOG
BEGIN:VTIMEZONE
TZID:Europe/London
TZURL:http://tzurl.org/zoneinfo/Europe/London
X-LIC-LOCATION:Europe/London
BEGIN:DAYLIGHT
TZOFFSETFROM:+0000
TZOFFSETTO:+0100
TZNAME:BST
DTSTART:20140330T020000Z
RRULE:FREQ=YEARLY;BYMONTH=3;BYDAY=-1SU
END:DAYLIGHT
BEGIN:STANDARD
TZOFFSETFROM:+0100
TZOFFSETTO:+0000
TZNAME:GMT
DTSTART:20141026T020000Z
RRULE:FREQ=YEARLY;BYMONTH=10;BYDAY=-1SU
END:STANDARD
END:VTIMEZONE
BEGIN:VEVENT
SUMMARY:Weekly Open Games - 12.07
DTSTAMP:20140711T092045Z
SEQUENCE:0
UID:10-1-5734b46ed07498cf109a779f6d92c724@wogames.info
ORGANIZER;CN="ToxaSM":no-reply@wogames.info
DESCRIPTION:\n\n\n\n\n\n\n\n\n В субботу 12.07.14 играем:\
	n\n\n\n\n1. \nMercalillo base US Army - TA [Остров - Sahrani] KN
	D.TT в атаке\n\n\n\n\n\n2. \nBlack Berets ВС РФ - USMC [Ос
	тров - Sahrani] KND.TT в обороне\n\n\n\n\n\n3. \nCommunication
	 station US Army - ВС РФ [Остров - Caribou] KND.TT в 
	атаке\n\n\n\n\nТЕМА ДЛЯ ОБСУЖДЕНИЯ\n\n\n
DTSTART;VALUE=DATE:20140712
END:VEVENT
END:VCALENDAR
