BEGIN:VCALENDAR
VERSION:2.0
PRODID:-//IP.Board Calendar 4.3.6//EN
METHOD:PUBLISH
CALSCALE:GREGORIAN
BEGIN:VTIMEZONE
TZID:Europe/London
TZURL:http://tzurl.org/zoneinfo/Europe/London
X-LIC-LOCATION:Europe/London
BEGIN:DAYLIGHT
TZOFFSETFROM:+0000
TZOFFSETTO:+0100
TZNAME:BST
DTSTART:20180325T020000Z
RRULE:FREQ=YEARLY;BYMONTH=3;BYDAY=-1SU
END:DAYLIGHT
BEGIN:STANDARD
TZOFFSETFROM:+0100
TZOFFSETTO:+0000
TZNAME:GMT
DTSTART:20181028T020000Z
RRULE:FREQ=YEARLY;BYMONTH=10;BYDAY=-1SU
END:STANDARD
END:VTIMEZONE
BEGIN:VTIMEZONE
TZID:Europe/London
TZURL:http://tzurl.org/zoneinfo/Europe/London
X-LIC-LOCATION:Europe/London
BEGIN:DAYLIGHT
TZOFFSETFROM:+0000
TZOFFSETTO:+0100
TZNAME:BST
DTSTART:20170326T020000Z
RRULE:FREQ=YEARLY;BYMONTH=3;BYDAY=-1SU
END:DAYLIGHT
BEGIN:STANDARD
TZOFFSETFROM:+0100
TZOFFSETTO:+0000
TZNAME:GMT
DTSTART:20171029T020000Z
RRULE:FREQ=YEARLY;BYMONTH=10;BYDAY=-1SU
END:STANDARD
END:VTIMEZONE
BEGIN:VTIMEZONE
TZID:Europe/London
TZURL:http://tzurl.org/zoneinfo/Europe/London
X-LIC-LOCATION:Europe/London
BEGIN:DAYLIGHT
TZOFFSETFROM:+0000
TZOFFSETTO:+0100
TZNAME:BST
DTSTART:20160327T020000Z
RRULE:FREQ=YEARLY;BYMONTH=3;BYDAY=-1SU
END:DAYLIGHT
BEGIN:STANDARD
TZOFFSETFROM:+0100
TZOFFSETTO:+0000
TZNAME:GMT
DTSTART:20161030T020000Z
RRULE:FREQ=YEARLY;BYMONTH=10;BYDAY=-1SU
END:STANDARD
END:VTIMEZONE
BEGIN:VEVENT
SUMMARY:mWOG по средам ARMA 3
DTSTAMP:20180721T224443Z
SEQUENCE:0
UID:710-6-5734b46ed07498cf109a779f6d92c724@wogames.info
ORGANIZER;CN="JackReign":no-reply@wogames.info
DESCRIPTION:\n\n	Начало игр в 21-00 (
	по МСК)\n\n\n	Техническая инфор
	мация для подключения:\n\n	 \n\n\n\n	\n		
	Спойлер\n	\n\n	\n		\n			IP игрового сервера: 88.9
	9.69.243\n		\n\n		\n			Порт игрового сервера: 
	3089\n\n			Пароль: wogames \n\n			TeamSpeak сервер: wogames
	.info:9987\n\n\n			Строка Запуска:\n		\n\n		\n			-mod=@CUP_Te
	rrains_Core\;@CUP_Terrains_Maps\;@RHSGREF\;@RHSSAF\;@RHSUSAF\;@RHSAFRF\;@W
	OG_ACE\;@WOG_Mods\;@WOG_BAF\;@WOG_BW\;@WOG_Islands\;@YuEmod\;@TFAR\;\n\n\n
				Репозиторий (Arma3Synс):\n		\n\n		\n			ftp://88.99.69.243/R
	epo/WOG/.a3s/autoconfig\n		\n	\n\n\n\n	 \n\n
DTSTART:20180725T180000Z
END:VEVENT
BEGIN:VEVENT
SUMMARY:mWOG по воскресеньям ARMA 3
DTSTAMP:20181208T105322Z
SEQUENCE:0
UID:733-6-5734b46ed07498cf109a779f6d92c724@wogames.info
ORGANIZER;CN="Mopo3":no-reply@wogames.info
DESCRIPTION:\n	Возрождение №2 
DTSTART:20181209T160000Z
END:VEVENT
BEGIN:VEVENT
SUMMARY:mWOG по воскресеньям ARMA 3
DTSTAMP:20181107T205444Z
SEQUENCE:0
UID:728-6-5734b46ed07498cf109a779f6d92c724@wogames.info
ORGANIZER;CN="Mopo3":no-reply@wogames.info
DESCRIPTION:\n	Начало игр в 18-00 (по МСК)\n
DTSTART:20181111T150000Z
END:VEVENT
BEGIN:VEVENT
SUMMARY:mWOG по воскресеньям ARMA 3
DTSTAMP:20181025T180852Z
SEQUENCE:0
UID:725-6-5734b46ed07498cf109a779f6d92c724@wogames.info
ORGANIZER;CN="Mopo3":no-reply@wogames.info
DESCRIPTION:\n\n	Начало игр в 20-00 (по
	 МСК)\n\n\n\n	Техническая инф
	ормация для подключения:\n\n\n\n	\n
			Спойлер\n	\n\n	\n		\n			Сами найдете\n		\n	\n\n\n\n	 
	\n\n\n\n	\n\n
DTSTART:20181028T170000Z
END:VEVENT
BEGIN:VEVENT
SUMMARY:mWOG A2 11.06.2017 ВОСКРЕСНЫЕ ИГРЫ
DTSTAMP:20170611T004244Z
SEQUENCE:0
UID:517-6-5734b46ed07498cf109a779f6d92c724@wogames.info
ORGANIZER;CN="sup":no-reply@wogames.info
DESCRIPTION:\n\n	Сбор : 20:00 (Мск). Старт : 20:10
	 (Мск)\n\n\n\n	Приход
	ите на воскрес
	ные игры. Миссии бу
	дут ставиться по ко
	личеству пришедших.\n\n\n\n	Игровой админис
	тратор — [FOX]onoda\n\n
DTSTART:20170611T170000Z
DTEND:20170611T205900Z
END:VEVENT
BEGIN:VEVENT
SUMMARY:mWOG - Малые игры
DTSTAMP:20161130T044249Z
SEQUENCE:0
UID:408-6-5734b46ed07498cf109a779f6d92c724@wogames.info
ORGANIZER;CN="crabe":no-reply@wogames.info
DESCRIPTION:\n\n	Сбор : 20:00 (Мск). Старт : 20:10 (Мск)
	\n\n\n\n	 \n\n\n\n	 \n\n\n\n	 \n\n\n\n	 \n\n\n\n	
	Техническая информация:\n\n\n\n	Server IP: 195.2.253.
	152:2302\n\n\n\n	Server Password: wogames\n\n\n\n	TeamSpeak IP : wogames.
	info\n\n\n\n	Версия плагина Task Force Arma 3 Radio : 0.9.2\
	n\n\n\n	Auto-config URL для Yoma Addon Sync (кликабельно):
	 ftp://193.19.118.182/Updater_WOG/WOG_Updater/addons.zip\n\n\n\n	Auto-con
	fig URL для A3Sync (кликабельно):ftp://193.19.118.182/Upda
	ter_WOG/ArmA3Sync/WOG_A2/.a3s/autoconfig\n\n\n\n	Строка запу
	ска: -mod=@a2r_ts3\;@wog_ace\;@wog_islands\;@wog_mods\;@wog_sm\;@wog_a
	cr\;baf\;pmc -nosplash -noPause\n\n
DTSTART:20161130T170000Z
DTEND:20161130T205900Z
RRULE:FREQ=WEEKLY;INTERVAL=1;UNTIL=20170516T200000;BYDAY=WE
END:VEVENT
BEGIN:VEVENT
SUMMARY:mWOG A2 23.11
DTSTAMP:20161122T150755Z
SEQUENCE:0
UID:402-6-5734b46ed07498cf109a779f6d92c724@wogames.info
ORGANIZER;CN="Leorik":no-reply@wogames.info
DESCRIPTION:\n\n	\n		\n\n\n\n	 \n\n\n\n	\n		mWOG 23.11.16\n	\n\n\n\n	 
	\n\n\n\n	\n		Сбор : 20:00 (Мск). Старт : 20:10 (Мск)\n	\n\
	n\n\n	 \n\n\n\n	\n		 \n	\n\n\n\n	\nТехническая инфо
	рмация:\n\n\n\n\n		Server IP: 195.2.253.152:2302\n	\n	\n		Server Pas
	sword: wogames\n	\n	\n		TeamSpeak IP : wogames.info\n	\n	\n		В
	ерсия плагина Task Force Arma 3 Radio  : 0.9.2\n	\n	\n		Auto
	-config URL для Yoma Addon Sync (кликабельно): ftp://193.19.
	118.182/Updater_WOG/WOG_Updater/addons.zip\n	\n	\n		Auto-config URL для
	 A3Sync (кликабельно):ftp://193.19.118.182/Updater_WOG/ArmA3Sy
	nc/WOG_A2/.a3s/autoconfig\n	\n	\n		Строка запуска: -mod=@a2r
	_ts3\;@wog_ace\;@wog_islands\;@wog_mods\;@wog_sm\;@wog_acr\;baf\;pmc -nosp
	lash -noPause\n	\n\n
DTSTART:20161123T170000Z
DTEND:20161123T205900Z
END:VEVENT
BEGIN:VEVENT
SUMMARY:[Unofficial] mWOG 09.11.16
DTSTAMP:20161106T164550Z
SEQUENCE:0
UID:391-6-5734b46ed07498cf109a779f6d92c724@wogames.info
ORGANIZER;CN="RavingRobot":no-reply@wogames.info
DESCRIPTION:\n\n	\n\n\n	Сбор: 20:00 (Мск). Старт: 20:10
	 (Мск)\n\n\n\n	Игры проводит: [RSG]Leo
	rik\n\n\n\n	\nТехническая информация:\n\n\n\n	Server
	 IP: 195.2.253.152:2302 \n\n\n\n	Server Password: wogames\n\n\n\n	TeamS
	peak IP: wogames.info\n\n\n\n	Версия плагина Task Force Arm
	a 3 Radio: 0.9.2 \n\n\n\n	Auto-config URL для Yoma Addon Sync: ftp:/
	/193.19.118.182/Updater_WOG/WOG_Updater/addons.zip\n\n\n\n	Auto-config URL
	 для Arma3Sync: ftp://193.19.118.182/Updater_WOG/ArmA3Sync/WOG_A2/.a3s
	/autoconfig\n\n\n\n	Строка запуска: -mod=@a2r_ts3\;@wog_ace\
	;@wog_islands\;@wog_mods\;@wog_sm\;@wog_acr\;\n\n
DTSTART:20161109T170000Z
DTEND:20161109T185900Z
END:VEVENT
BEGIN:VEVENT
SUMMARY:mWOG+1 19.10.16
DTSTAMP:20161025T031658Z
SEQUENCE:0
UID:387-6-5734b46ed07498cf109a779f6d92c724@wogames.info
ORGANIZER;CN="RavingRobot":no-reply@wogames.info
DESCRIPTION:\n\n	\n\n\n	Дата: 26.10\n\n\n\n	Время: 21:00\
	n\n\n\n	IP адрес сервера: 195.2.253.181   Порт:
	 2352\n\n\n\n	Сервер TS: wogames.info\n\n\n\n	 \n\
	n\n\n	Запуск игры через WOG Launcher:\n\n	
	Используйте сборку mWOG3\n\n\n\n	\nАвто-кон
	фиг для ArmA3Sync:\nftp://193.19.118.182/Updater_WOG/ArmA3Sync/WOG/
	.a3s/autoconfig\n\n\n\n	 \n\n\n\n	Строка зап
	уска и требуемые аддоны:\n\n	-mod=@ACE_BETA\;@CUP_Terr
	ains\;@RHSAFRF\;@RHSUSAF\;@RHSGREF\;@WOG3_Islands\;@mWOG3_Islands\;@WOG3_A
	CE\;@task_force_radio\;\n\n\n\n	 \n\n\n\n	ВНИМАНИЕ!
	 21.10 было обновление сборки!\n\n\n\n\n	 \n\n
DTSTART:20161026T180000Z
DTEND:20161026T185900Z
END:VEVENT
BEGIN:VEVENT
SUMMARY:mWOG+1 19.10.16
DTSTAMP:20161016T073224Z
SEQUENCE:0
UID:381-6-5734b46ed07498cf109a779f6d92c724@wogames.info
ORGANIZER;CN="RavingRobot":no-reply@wogames.info
DESCRIPTION:\n\n	\n\n\n	Дата: 19.10\n\n\n\n	Время: 21:00\
	n\n\n\n	IP адрес сервера: 195.2.253.181   Порт:
	 2352\n\n\n\n	Сервер TS: wogames.info\n\n\n\n	 \n\
	n\n\n	Запуск игры через WOG Launcher:\n\n	
	Используйте сборку mWOG3\n\n\n\n	\nАвто-кон
	фиг для ArmA3Sync:\nftp://193.19.118.182/Updater_WOG/ArmA3Sync/WOG/
	.a3s/autoconfig\n\n\n\n	 \n\n\n\n	Строка зап
	уска и требуемые аддоны:\n\n	-mod=@ACE_BETA\;@CUP_Terr
	ains\;@RHSAFRF\;@RHSUSAF\;@RHSGREF\;@WOG3_Islands\;@mWOG3_Islands\;@WOG3_A
	CE\;@task_force_radio\;\n\n\n\n	 \n\n\n\n	ВНИМАНИЕ!
	 13.10 было обновление сборки!\n\n\n\n\n	 \n\n
DTSTART:20161019T180000Z
DTEND:20161019T185900Z
END:VEVENT
BEGIN:VEVENT
SUMMARY:mWOG+1 12.10.16
DTSTAMP:20161010T092133Z
SEQUENCE:0
UID:378-6-5734b46ed07498cf109a779f6d92c724@wogames.info
ORGANIZER;CN="RavingRobot":no-reply@wogames.info
DESCRIPTION:\n\n	\n\n\n	Дата: 12.10\n\n\n\n	Время: 21:00\
	n\n\n\n	IP адрес сервера: 195.2.253.181   Порт:
	 2352\n\n\n\n	Сервер TS: wogames.info\n\n\n\n	 \n\
	n\n\n	Запуск игры через WOG Launcher:\n\n	
	Используйте сборку mWOG3\n\n\n\n	\nАвто-кон
	фиг для ArmA3Sync:\nftp://193.19.118.182/Updater_WOG/ArmA3Sync/WOG/
	.a3s/autoconfig\n\n\n\n	 \n\n\n\n	Строка зап
	уска и требуемые аддоны:\n\n	-mod=@ACE_BETA\;@CUP_Terr
	ains\;@RHSAFRF\;@RHSUSAF\;@RHSGREF\;@WOG3_Islands\;@mWOG3_Islands\;@WOG3_A
	CE\;@task_force_radio\;\n\n\n\n	 \n\n\n\n	 \n\n\n\n	ВНИМАН
	ИЕ! 6.10 было обновление сборки!\n\n\n\n\n	 \n\n
DTSTART:20161012T180000Z
DTEND:20161012T185900Z
END:VEVENT
BEGIN:VEVENT
SUMMARY:mWOG+1 05.10.16
DTSTAMP:20161002T204505Z
SEQUENCE:0
UID:375-6-5734b46ed07498cf109a779f6d92c724@wogames.info
ORGANIZER;CN="RavingRobot":no-reply@wogames.info
DESCRIPTION:\n\n	\n\n\n	Дата: 05.10\n\n\n\n	Время: 21:00\
	n\n\n\n	IP адрес сервера: 195.2.253.181   Порт:
	 2352\n\n\n\n	Сервер TS: wogames.info\n\n\n\n	 \n\
	n\n\n	Запуск игры через WOG Launcher:\n\n	
	Используйте сборку mWOG3\n\n\n\n	\nАвто-кон
	фиг для ArmA3Sync:\nftp://193.19.118.182/Updater_WOG/ArmA3Sync/WOG/
	.a3s/autoconfig\n\n\n\n	 \n\n\n\n	Строка зап
	уска и требуемые аддоны:\n\n	-mod=@ACE_BETA\;@CUP_Terr
	ains\;@RHSAFRF\;@RHSUSAF\;@RHSGREF\;@WOG3_Islands\;@mWOG3_Islands\;@WOG3_A
	CE\;@task_force_radio\;\n\n
DTSTART:20161005T180000Z
DTEND:20161005T185900Z
END:VEVENT
BEGIN:VEVENT
SUMMARY:mWOG+1 28.09.16
DTSTAMP:20160926T142716Z
SEQUENCE:0
UID:371-6-5734b46ed07498cf109a779f6d92c724@wogames.info
ORGANIZER;CN="RavingRobot":no-reply@wogames.info
DESCRIPTION:\n\n	\n\n\n	Дата: 28.09\n\n\n\n	Время: 21:00\
	n\n\n\n	IP адрес сервера: 195.2.253.181   Порт:
	 2352\n\n\n\n	Сервер TS: wogames.info\n\n\n\n	 \n\
	n\n\n	Запуск игры через WOG Launcher:\n\n	
	Используйте сборку mWOG3\n\n\n\n	\nАвто-кон
	фиг для ArmA3Sync:\nftp://193.19.118.182/Updater_WOG/ArmA3Sync/WOG/
	.a3s/autoconfig\n\n\n\n	 \n\n\n\n	Строка зап
	уска и требуемые аддоны:\n\n	-mod=@ACE_BETA\;@CUP_Terr
	ains\;@RHSAFRF\;@RHSUSAF\;@RHSGREF\;@WOG3_Islands\;@mWOG3_Islands\;@WOG3_A
	CE\;@task_force_radio\;\n\n\n\n	 \n\n\n\n	 \n\n\n\n	ВНИМАНИ
	Е! 22.09 было обновление сборки!\n\n\n\n\n	 \n\n
DTSTART:20160928T180000Z
DTEND:20160928T185900Z
END:VEVENT
BEGIN:VEVENT
SUMMARY:mWOG+1 21.09.16
DTSTAMP:20160920T045508Z
SEQUENCE:0
UID:369-6-5734b46ed07498cf109a779f6d92c724@wogames.info
ORGANIZER;CN="RavingRobot":no-reply@wogames.info
DESCRIPTION:\n\n	\n\n\n	Дата: 21.09\n\n\n\n	Время: 21:00\
	n\n\n\n	IP адрес сервера: 195.2.253.181   Порт:
	 2352\n\n\n\n	Сервер TS: wogames.info\n\n\n\n	 \n\
	n\n\n	Запуск игры через WOG Launcher:\n\n	
	Используйте сборку mWOG3\n\n\n\n	\nАвто-кон
	фиг для ArmA3Sync:\nftp://193.19.118.182/Updater_WOG/ArmA3Sync/WOG/
	.a3s/autoconfig\n\n\n\n	 \n\n\n\n	Строка зап
	уска и требуемые аддоны:\n\n	-mod=@ACE_BETA\;@CUP_Terr
	ains\;@RHSAFRF\;@RHSUSAF\;@RHSGREF\;@WOG3_Islands\;@mWOG3_Islands\;@WOG3_A
	CE\;@task_force_radio\;\n\n
DTSTART:20160921T180000Z
DTEND:20160921T185900Z
END:VEVENT
BEGIN:VEVENT
SUMMARY:mWOG+1 14.09.16
DTSTAMP:20160912T132125Z
SEQUENCE:0
UID:365-6-5734b46ed07498cf109a779f6d92c724@wogames.info
ORGANIZER;CN="RavingRobot":no-reply@wogames.info
DESCRIPTION:\n\n	\n\n\n	Дата: 14.09\n\n\n\n	Время: 21:00\
	n\n\n\n	IP адрес сервера: 195.2.253.181   Порт:
	 2352\n\n\n\n	Сервер TS: wogames.info\n\n\n\n	 \n\
	n\n\n	Запуск игры через WOG Launcher:\n\n	
	Используйте сборку mWOG3\n\n\n\n	\nАвто-кон
	фиг для ArmA3Sync:\nftp://193.19.118.182/Updater_WOG/ArmA3Sync/WOG/
	.a3s/autoconfig\n\n\n\n	 \n\n\n\n	Строка зап
	уска и требуемые аддоны:\n\n	-mod=@ACE_BETA\;@CUP_Terr
	ains\;@RHSAFRF\;@RHSUSAF\;@RHSGREF\;@WOG3_Islands\;@mWOG3_Islands\;@WOG3_A
	CE\;@task_force_radio\;\n\n
DTSTART:20160914T180000Z
DTEND:20160914T185900Z
END:VEVENT
BEGIN:VEVENT
SUMMARY:mWOG+1 07.09.2016
DTSTAMP:20160904T103947Z
SEQUENCE:0
UID:362-6-5734b46ed07498cf109a779f6d92c724@wogames.info
ORGANIZER;CN="RavingRobot":no-reply@wogames.info
DESCRIPTION:\n\n	\n\n\n	Дата: 07.09\n\n\n\n	Время: 21:00\
	n\n\n\n	IP адрес сервера: 195.2.253.181   Порт:
	 2352\n\n\n\n	Сервер TS: wogames.info\n\n\n\n	 \n\
	n\n\n	Запуск игры через WOG Launcher:\n\n	
	Используйте сборку mWOG3\n\n\n\n	\nАвто-кон
	фиг для ArmA3Sync:\nftp://193.19.118.182/Updater_WOG/ArmA3Sync/WOG/
	.a3s/autoconfig\n\n\n\n	 \n\n\n\n	Строка зап
	уска и требуемые аддоны:\n\n	-mod=@ACE_BETA\;@CUP_Terr
	ains\;@RHSAFRF\;@RHSUSAF\;@RHSGREF\;@WOG3_Islands\;@mWOG3_Islands\;@WOG3_A
	CE\;@task_force_radio\;\n\n
DTSTART:20160907T180000Z
DTEND:20160907T185900Z
END:VEVENT
BEGIN:VEVENT
SUMMARY:mWOG+1 31.08.16
DTSTAMP:20160827T173519Z
SEQUENCE:0
UID:359-6-5734b46ed07498cf109a779f6d92c724@wogames.info
ORGANIZER;CN="RavingRobot":no-reply@wogames.info
DESCRIPTION:\n\n	\n\n\n	Дата: 31.08\n\n\n\n	Время: 21:00\
	n\n\n\n	IP адрес сервера: 195.2.253.181   Порт:
	 2352\n\n\n\n	Сервер TS: wogames.info\n\n\n\n	 \n\
	n\n\n	Запуск игры через WOG Launcher:\n\n	
	Используйте сборку mWOG3\n\n\n\n	\nАвто-кон
	фиг для ArmA3Sync:\nftp://193.19.118.182/Updater_WOG/ArmA3Sync/WOG/
	.a3s/autoconfig\n\n\n\n	 \n\n\n\n	Строка зап
	уска и требуемые аддоны:\n\n	-mod=@ACE_BETA\;@CUP_Terr
	ains\;@RHSAFRF\;@RHSUSAF\;@RHSGREF\;@WOG3_Islands\;@mWOG3_Islands\;@WOG3_A
	CE\;@task_force_radio\;\n\n\n\n	 \n\n\n\n	 \n\n\n\n	ВНИМАНИ
	Е! 25.08 было обновлени
	е сборки!\n\n\n\n
		Картодела
	м необходим
	о привести свои м
	иссии в соответстви
	е с правилами оформления. Срок -  2
	9.08 (включительно)\n\n\n\n	\n\n\n\n	 \n\n
DTSTART:20160831T180000Z
DTEND:20160831T185900Z
END:VEVENT
BEGIN:VEVENT
SUMMARY:mWOG+1 24.08.16
DTSTAMP:20160822T142300Z
SEQUENCE:0
UID:357-6-5734b46ed07498cf109a779f6d92c724@wogames.info
ORGANIZER;CN="RavingRobot":no-reply@wogames.info
DESCRIPTION:\n\n	\n\n\n	Дата: 24.08\n\n\n\n	Время: 21:00\
	n\n\n\n	IP адрес сервера: 195.2.253.181   Порт:
	 2352\n\n\n\n	Сервер TS: wogames.info\n\n\n\n	 \n\
	n\n\n	Запуск игры через WOG Launcher:\n\n	
	Используйте сборку mWOG3\n\n\n\n	\nАвто-кон
	фиг для ArmA3Sync:\nftp://193.19.118.182/Updater_WOG/ArmA3Sync/WOG/
	.a3s/autoconfig\n\n\n\n	 \n\n\n\n	Строка зап
	уска и требуемые аддоны:\n\n	-mod=@ACE_BETA\;@CUP_Terr
	ains\;@RHSAFRF\;@RHSUSAF\;@RHSGREF\;@WOG3_Islands\;@mWOG3_Islands\;@WOG3_A
	CE\;@task_force_radio\;\n\n\n\n	 \n\n\n\n	ВНИМАНИЕ!
	 18.08 было обновление сборки!\n\n
DTSTART:20160824T180000Z
DTEND:20160824T185900Z
END:VEVENT
BEGIN:VEVENT
SUMMARY:mWOG+1 17.08.16
DTSTAMP:20160815T032512Z
SEQUENCE:0
UID:348-6-5734b46ed07498cf109a779f6d92c724@wogames.info
ORGANIZER;CN="RavingRobot":no-reply@wogames.info
DESCRIPTION:\n\n	\n\n\n	Дата: 17.08\n\n\n\n	Время: 21:00\
	n\n\n\n	IP адрес сервера: 195.2.253.181   Порт:
	 2352\n\n\n\n	Сервер TS: wogames.info\n\n\n\n	 \n\
	n\n\n	Запуск игры через WOG Launcher:\n\n	
	Используйте сборку mWOG3\n\n\n\n	\nАвто-кон
	фиг для ArmA3Sync:\nftp://193.19.118.182/Updater_WOG/ArmA3Sync/WOG/
	.a3s/autoconfig\n\n\n\n	 \n\n\n\n	Строка зап
	уска и требуемые аддоны:\n\n	-mod=@ACE_BETA\;@CUP_Terr
	ains\;@RHSAFRF\;@RHSUSAF\;@RHSGREF\;@WOG3_Islands\;@mWOG3_Islands\;@WOG3_A
	CE\;@task_force_radio\;\n\n\n\n	 \n\n\n\n	ВНИМАНИЕ!
	 11.08 было обновление сборки!\n\n
DTSTART:20160817T180000Z
END:VEVENT
BEGIN:VEVENT
SUMMARY:mWOG+1 10.08.16
DTSTAMP:20160808T033955Z
SEQUENCE:0
UID:345-6-5734b46ed07498cf109a779f6d92c724@wogames.info
ORGANIZER;CN="RavingRobot":no-reply@wogames.info
DESCRIPTION:\n\n	\n\n\n	Дата: 10.08\n\n\n\n	Время: 21:00\
	n\n\n\n	IP адрес сервера: 195.2.253.181   Порт:
	 2352\n\n\n\n	Сервер TS: wogames.info\n\n\n\n	 \n\
	n\n\n	Запуск игры через WOG Launcher:\n\n	
	Используйте сборку mWOG3\n\n\n\n	\nАвто-кон
	фиг для ArmA3Sync:\nftp://193.19.118.182/Updater_WOG/ArmA3Sync/WOG/
	.a3s/autoconfig\n\n\n\n	 \n\n\n\n	Строка зап
	уска и требуемые аддоны:\n\n	-mod=@ACE_BETA\;@CUP_Terr
	ains\;@RHSAFRF\;@RHSUSAF\;@RHSGREF\;@WOG3_Islands\;@mWOG3_Islands\;@WOG3_A
	CE\;@task_force_radio\;\n\n
DTSTART:20160810T180000Z
DTEND:20160810T185900Z
END:VEVENT
BEGIN:VEVENT
SUMMARY:mWOG+1 03.08.16 \"Triple Kill!\"
DTSTAMP:20160730T174424Z
SEQUENCE:0
UID:342-6-5734b46ed07498cf109a779f6d92c724@wogames.info
ORGANIZER;CN="RavingRobot":no-reply@wogames.info
DESCRIPTION:\n\n	\n\n\n	Дата: 03.08\n\n\n\n	Время: 21:00\
	n\n\n\n	IP адрес сервера: 195.2.253.181   Порт:
	 2352\n\n\n\n	Сервер TS: wogames.info\n\n\n\n	 \n\
	n\n\n	Запуск игры через WOG Launcher:\n\n	
	Используйте сборку mWOG3\n\n\n\n	\nАвто-кон
	фиг для ArmA3Sync:\nftp://193.19.118.182/Updater_WOG/ArmA3Sync/WOG/
	.a3s/autoconfig\n\n\n\n	 \n\n\n\n	Строка зап
	уска и требуемые аддоны:\n\n	-mod=@ACE_BETA\;@CUP_Terr
	ains\;@RHSAFRF\;@RHSUSAF\;@RHSGREF\;@WOG3_Islands\;@mWOG3_Islands\;@WOG3_A
	CE\;@task_force_radio\;\n\n\n\n	 \n\n\n\n	ВНИМАНИЕ!
	 27.07 было обновление сборки (6\,6 Гб)!\n\n
DTSTART:20160803T180000Z
END:VEVENT
BEGIN:VEVENT
SUMMARY:mWOG+1 27.07.16 \"Round 2. Fight!\"
DTSTAMP:20160725T135435Z
SEQUENCE:0
UID:339-6-5734b46ed07498cf109a779f6d92c724@wogames.info
ORGANIZER;CN="RavingRobot":no-reply@wogames.info
DESCRIPTION:\n\n	\n\n\n	Дата: 27.07\n\n\n\n	Время: 21:00\
	n\n\n\n	IP адрес сервера: 195.2.253.181   Порт: 23
	52\n\n\n\n	Сервер TS: wogames.info\n\n\n\n	 \n\n\n\n
		Запуск игры через WOG Launcher:\n\n	И
	спользуйте сборку mWOG3\n\n\n	\nАвто-конфиг 
	для ArmA3Sync:\nftp://193.19.118.182/Updater_WOG/ArmA3Sync/WOG/.a3s/au
	toconfig\n\n\n\n	 \n\n\n\n	Строка запуска и 
	требуемые аддоны:\n\n	-mod=@ACE_BETA\;@CUP_Terrains\;@RHSAF
	RF\;@RHSUSAF\;@RHSGREF\;@WOG3_Islands\;@mWOG3_Islands\;@WOG3_ACE\;@task_fo
	rce_radio\;\n\n
DTSTART:20160727T180000Z
DTEND:20160726T190000Z
END:VEVENT
BEGIN:VEVENT
SUMMARY:mWOG+1 20.07.16 \"First Game\"
DTSTAMP:20160719T142636Z
SEQUENCE:0
UID:335-6-5734b46ed07498cf109a779f6d92c724@wogames.info
ORGANIZER;CN="RavingRobot":no-reply@wogames.info
DESCRIPTION:\n\n	\n\n\n	Дата: 20.07\n\n\n\n	Время: 21:00\
	n\n\n\n	IP адрес сервера: 195.2.253.181   Порт: 23
	52\n\n\n\n	Сервер TS: wogames.info\n\n\n\n	 \n\n\n\n
		Запуск игры через WOG Launcher:\n\n	Испол
	ьзуйте сборку mWOG ACE3\n\n\n\n	\nАвто-конфиг дл
	я ArmA3Sync:\nftp://193.19.118.182/Updater_WOG/ArmA3Sync/WOG/.a3s/autoco
	nfig\n\n\n\n	 \n\n\n\n	Строка запуска и треб
	уемые аддоны:\n\n	-mod=@ACE_BETA\;@CUP_Terrains\;@RHSAFRF\;@RHS
	USAF\;@RHSGREF\;@WOG3_Islands\;@mWOG3_Islands\;@WOG3_ACE\;@task_force_radi
	o\;\n\n
DTSTART:20160720T180000Z
END:VEVENT
BEGIN:VEVENT
SUMMARY:mWOG A2 13.07
DTSTAMP:20160710T212759Z
SEQUENCE:0
UID:332-6-5734b46ed07498cf109a779f6d92c724@wogames.info
ORGANIZER;CN="Leorik":no-reply@wogames.info
DESCRIPTION:\n	\n		\n			\n				\n					\n						\n				\n\n				\n					\n				
			mWOG 13.07.16\n					\n				\n\n				\n					\n						Сбор : 20:00 
	(Мск). Старт : 20:10 (Мск)\n					\n				\n\n			
		\n					\nТехническая информация:\n				\n\n				\n				
			Server IP: 195.2.253.152:2302\n					\n					\n						Server Password: woga
	mes\n					\n					\n						TeamSpeak IP : wogames.info\n					\n					\n						
	Версия плагина Task Force Arma 3 Radio  : 0.9.2\n					\n					
	\n						Auto-config URL для Yoma Addon Sync (кликабельно): f
	tp://193.19.118.182/Updater_WOG/WOG_Updater/addons.zip\n					\n				\n		\n	
	\n
DTSTART:20160713T170000Z
DTEND:20160713T200000Z
ATTENDEE;CN="Kronos";CUTYPE=INDIVIDUAL;PARTSTAT=ACCEPTED:no-
	reply@wogames.info
ATTENDEE;CN="Leorik";CUTYPE=INDIVIDUAL;PARTSTAT=ACCEPTED:no-
	reply@wogames.info
ATTENDEE;CN="crabe";CUTYPE=INDIVIDUAL;PARTSTAT=ACCEPTED:no-r
	eply@wogames.info
ATTENDEE;CN="Shullman";CUTYPE=INDIVIDUAL;PARTSTAT=ACCEPTED:n
	o-reply@wogames.info
ATTENDEE;CN="Panzer";CUTYPE=INDIVIDUAL;PARTSTAT=ACCEPTED:no-
	reply@wogames.info
ATTENDEE;CN="Lutz";CUTYPE=INDIVIDUAL;PARTSTAT=ACCEPTED:no-re
	ply@wogames.info
END:VEVENT
BEGIN:VEVENT
SUMMARY:mWOG A2 06.07 20:00
DTSTAMP:20160704T082249Z
SEQUENCE:0
UID:329-6-5734b46ed07498cf109a779f6d92c724@wogames.info
ORGANIZER;CN="Leorik":no-reply@wogames.info
DESCRIPTION:\n\n	\n		\n\n\n\n	 \n\n\n\n	\n		mWOG 06.07.16\n	\n\n\n\n	 
	\n\n\n\n	\n		Сбор : 20:00 (Мск). Старт : 20:10 (Мск)\n	\n\
	n\n\n	 \n\n\n\n	\n		 \n	\n\n\n\n	\nТехническая инфо
	рмация:\n\n\n\n		Server IP: 195.2.253.152:2302\n	\n	\n		Server Passw
	ord: wogames\n	\n	\n		TeamSpeak IP :193.19.118.182\n	\n	\n		В
	ерсия плагина Task Force Arma 3 Radio  : 0.9.2\n	\n	\n		Auto
	-config URL для Yoma Addon Sync (кликабельно): ftp://193.19.
	118.182/Updater_WOG/WOG_Updater/addons.zip\n	\n
DTSTART:20160706T170000Z
DTEND:20160706T200000Z
ATTENDEE;CN="Leorik";CUTYPE=INDIVIDUAL;PARTSTAT=ACCEPTED:no-
	reply@wogames.info
ATTENDEE;CN="Energy";CUTYPE=INDIVIDUAL;PARTSTAT=ACCEPTED:no-
	reply@wogames.info
END:VEVENT
BEGIN:VEVENT
SUMMARY:mWOG A2 29.06
DTSTAMP:20160627T023136Z
SEQUENCE:0
UID:324-6-5734b46ed07498cf109a779f6d92c724@wogames.info
ORGANIZER;CN="Leorik":no-reply@wogames.info
DESCRIPTION:\n\n	\n		\n\n\n\n	 \n\n\n\n	\n		mWOG 29.06.16\n	\n\n\n\n	 
	\n\n\n\n	\n		Сбор : 20:00 (Мск). Старт : 20:10 (Мск)\n	\n\
	n\n\n	 \n\n\n\n	\n		 \n	\n\n\n\n	\nТехническая инфо
	рмация:\n\n\n\n\n		Server IP: 195.2.253.152:2302\n	\n	\n		Server Pas
	sword: wogames\n	\n	\n		TeamSpeak IP :193.19.118.182\n	\n	\n		В
	ерсия плагина Task Force Arma 3 Radio  : 0.9.2\n	\n	\n		Auto
	-config URL для Yoma Addon Sync (кликабельно): ftp://193.19.
	118.182/Updater_WOG/WOG_Updater/addons.zip\n	\n\n
DTSTART:20160629T170000Z
DTEND:20160629T200000Z
ATTENDEE;CN="Leorik";CUTYPE=INDIVIDUAL;PARTSTAT=ACCEPTED:no-
	reply@wogames.info
ATTENDEE;CN="RavingRobot";CUTYPE=INDIVIDUAL;PARTSTAT=ACCEPTE
	D:no-reply@wogames.info
ATTENDEE;CN="Panzer";CUTYPE=INDIVIDUAL;PARTSTAT=ACCEPTED:no-
	reply@wogames.info
ATTENDEE;CN="Cpt Cat";CUTYPE=INDIVIDUAL;PARTSTAT=ACCEPTED:no
	-reply@wogames.info
ATTENDEE;CN="boa";CUTYPE=INDIVIDUAL;PARTSTAT=ACCEPTED:no-rep
	ly@wogames.info
ATTENDEE;CN="Lutz";CUTYPE=INDIVIDUAL;PARTSTAT=ACCEPTED:no-re
	ply@wogames.info
END:VEVENT
END:VCALENDAR
